BEGIN:VCALENDAR
VERSION:2.0
PRODID:-//jEvents 2.0 for Joomla//EN
CALSCALE:GREGORIAN
METHOD:PUBLISH
BEGIN:VEVENT
UID:852ae97c15ac06fc656ccd9f828e4a84
CATEGORIES:3. Bezirk
CREATED:20210504T123727
SUMMARY:Baby-Kinder-Frauen FLOHMARKT Wien-St.Marx
LOCATION:Parkplatz neben Marxhalle\, Maria Jacobi Gasse 50\, 1030 Wien
DESCRIPTION:Kinder+Frauen Flohmarkt\nSAMSTAG 15.Mai 2021 von 9-13h am Parkplatz neben d
 er Marxhalle in 1030 Wien.\nDu willst selber Kindergewand, Spielzeug, Kinde
 rbücher, Kinderfahrräder, Dreiradler, Kinderwägen, alles für Sommer, Sport 
 und Spiel verkaufen und bares Geld verdienen?\nBuche dir jetzt deinen Stand
 platz um 30 Euro (Auto steht am Standplatz 5x4 Meter) Eintritt frei für Bes
 ucherInnen! viele Parkplätze, Buffet!\nMärkte im Freien sind erlaubt (FFP2 
 Maskenpflicht).\nAlle Infos und Ticketkauf hier auf unserer Website www.flo
 hmarkt.geburtsallianz.at (http://www.flohmarkt.geburtsallianz.at)\nhttps://
 www.facebook.com/events/462810878152304\n
X-ALT-DESC;FMTTYPE=text/html:<p>Kinder+Frauen Flohmarkt</p><p>SAMSTAG 15.Mai 2021 von 9-13h <span style=
 "font-size: 12.16px;">am Parkplatz neben der Marxhalle in 1030 Wien.</span>
 </p><p>Du willst selber <strong>Kindergewand, Spielzeug, Kinderbücher, Kind
 erfahrräder, Dreiradler, Kinderwägen, alles für Sommer, Sport und Spiel ver
 kaufen</strong> und bares Geld verdienen?</p><p><strong>Buche dir jetzt dei
 nen Standplatz</strong> um 30 Euro (Auto steht am Standplatz 5x4 Meter) <sp
 an style="text-decoration: underline;">Eintritt frei für BesucherInnen!</sp
 an> viele Parkplätze, Buffet!</p><p>Märkte im Freien sind erlaubt (FFP2 Mas
 kenpflicht).</p><p>Alle Infos und Ticketkauf hier auf unserer Website <a hr
 ef="http://www.flohmarkt.geburtsallianz.at">www.flohmarkt.geburtsallianz.at
 </a></p><p><a href="https://www.facebook.com/events/462810878152304/?__cft_
 _%5b0%5d=AZVFefskpZoE7fpxRmRZWBunivgam7UapgfAvgKvzoF9iVhqLSKqLC6akCvKNPDMcE
 wEEENRbQcNx1zszBaA175s-mVPlODABjDvyVTjyFor1hSkaC_i18IK_GfOLa-OcboLXqqSbpQK2
 dNpZlDQTQiH&amp;__tn__=-UK-R">https://www.facebook.com/events/4628108781523
 04</a></p>
CONTACT:flohmarkt@geburtsallianz.at Tel.06504455577 (Flohmarktbüro)
X-EXTRAINFO:[preis='000'][anmeldung='false']
DTSTAMP:20260424T193839
DTSTART:20210515T070000
DTEND:20210515T110000
SEQUENCE:0
TRANSP:OPAQUE
END:VEVENT
END:VCALENDAR