BEGIN:VCALENDAR
VERSION:2.0
PRODID:-//jEvents 2.0 for Joomla//EN
CALSCALE:GREGORIAN
METHOD:PUBLISH
BEGIN:VEVENT
UID:21bf4cf47f1e68a885baa367a78c992d
CATEGORIES:3. Bezirk
CREATED:20211216T105744
SUMMARY:Deine persönliche Geburtsgeschichte - Ein exklusiver Postpartaler Workshop zur Geburtsnachbereitung
LOCATION:LieblingsMAMA Praxis: Apostelgasse 29-31/1/9
DESCRIPTION:Ein Erlebnis, das mit nichts zu vergleichen ist: Die Geburt deines Kindes. 
 \nGeknüpft an so viele Erinnerungen und Emotionen. Über ein so bedeutendes 
 Erlebnis ist es wert zu sprechen. Für dich, für andere Mamas und für dein K
 ind.\nHast du schon über deine Geburt gesprochen? \nSie in eigene Worte gef
 asst? \nSie angenommen, akzeptiert, deine Leistung gewürdigt?\nBei diesem W
 orkshop schauen wir gemeinsam nocheinmal genau hin. Wir widmen uns dem Schö
 nen, dem Lustigen, dem Emotionalem. Wir widmen uns DIR und deiner Geschicht
 e.\nAufgrund der Intimität des Workshops gibt es nur eine sehr limitierte T
 eilnehmerinnenzahl. Damit möchten wir gewährleisten, dass jede von euch, de
 n Raum bekommt, den sie benötigt.\nIn Kooperation mit der wunderbaren Mag. 
 Martina Novak: Pädagogin und Sonder- &amp; Heilpädagogin, Mal- und Gestaltu
 ngstherapeutin.\nwww.biolino.at (https://l.facebook.com/l.php?u=http%3A%2F%
 2Fwww.biolino.at%2F%3Ffbclid%3DIwAR30h9IOZk7DYVODNSSOegvTkhNsi63e8xMT8kBunD
 yl6WS7ybxCq0vhCTU&amp;h=AT2pW9yAUu1n9HPyK-v9siHKGQkUkgjsNQJWf31Fo21eENKo8PA
 _wSnww-BqwmT_c1BQ5tP_mG1lI8bg7qq8Ao8pwCXusiOK-O0yAf3AitrvwMqC8RFeVRhMMa8Wq-
 xqU2IuEjMYK6PYHTN-Yclr&amp;__tn__=q&amp;c[0]=AT2B4NDI5tryTIPY2UJgyW-PNbzqef
 DBDPkIhlIQEy2uUyqWQ443V9VLUTZnqxnnyM7rKt_Xt1untWLA5A12yCyVUpx_O2pyWQ9JYvLgc
 fhlQuKPnP_j8qRS-1HTmGGTideDXPFo27LploBRpqYvgy5xUoXEdTCMezAbRyLUJuUwwFs6gA) 
 Sie begleitet deine Kinder, damit du von deiner Geburt erzählen kannst.
X-ALT-DESC;FMTTYPE=text/html:<p class="" style="white-space: pre-wrap;">Ein Erlebnis, das mit nichts zu 
 vergleichen ist: Die Geburt deines Kindes. <br />Geknüpft an so viele Erinn
 erungen und Emotionen. Über ein so bedeutendes Erlebnis ist es wert zu spre
 chen. Für dich, für andere Mamas und für dein Kind.</p><p class="" style="w
 hite-space: pre-wrap;">Hast du schon über deine Geburt gesprochen? <br />Si
 e in eigene Worte gefasst? <br />Sie angenommen, akzeptiert, deine Leistung
  gewürdigt?</p><p class="" style="white-space: pre-wrap;">Bei diesem Worksh
 op schauen wir gemeinsam nocheinmal genau hin. Wir widmen uns dem Schönen, 
 dem Lustigen, dem Emotionalem. Wir widmen uns DIR und deiner Geschichte.</p
 ><p class="" style="white-space: pre-wrap;">Aufgrund der Intimität des Work
 shops gibt es nur eine sehr limitierte Teilnehmerinnenzahl. Damit möchten w
 ir gewährleisten, dass jede von euch, den Raum bekommt, den sie benötigt.</
 p><h4 style="white-space: pre-wrap;">In Kooperation mit der wunderbaren Mag
 . Martina Novak: Pädagogin und Sonder- &amp; Heilpädagogin, Mal- und Gestal
 tungstherapeutin.<br /><a href="https://l.facebook.com/l.php?u=http%3A%2F%2
 Fwww.biolino.at%2F%3Ffbclid%3DIwAR30h9IOZk7DYVODNSSOegvTkhNsi63e8xMT8kBunDy
 l6WS7ybxCq0vhCTU&amp;h=AT2pW9yAUu1n9HPyK-v9siHKGQkUkgjsNQJWf31Fo21eENKo8PA_
 wSnww-BqwmT_c1BQ5tP_mG1lI8bg7qq8Ao8pwCXusiOK-O0yAf3AitrvwMqC8RFeVRhMMa8Wq-x
 qU2IuEjMYK6PYHTN-Yclr&amp;__tn__=q&amp;c[0]=AT2B4NDI5tryTIPY2UJgyW-PNbzqefD
 BDPkIhlIQEy2uUyqWQ443V9VLUTZnqxnnyM7rKt_Xt1untWLA5A12yCyVUpx_O2pyWQ9JYvLgcf
 hlQuKPnP_j8qRS-1HTmGGTideDXPFo27LploBRpqYvgy5xUoXEdTCMezAbRyLUJuUwwFs6gA" t
 arget="_blank" rel="noopener noreferrer">www.biolino.at</a> Sie begleitet d
 eine Kinder, damit du von deiner Geburt erzählen kannst.</h4>
CONTACT:Sabine Grasmuk-Siegl, MSc Familienberaterin, Psychologische Beraterin https://www.lieblingsmama.at/spezialangebote
X-EXTRAINFO:[preis='9900'][anmeldung='true']
DTSTAMP:20260424T150536
DTSTART:20220125T080000
DTEND:20220125T101500
SEQUENCE:0
TRANSP:OPAQUE
END:VEVENT
END:VCALENDAR