BEGIN:VCALENDAR
VERSION:2.0
PRODID:-//jEvents 2.0 for Joomla//EN
CALSCALE:GREGORIAN
METHOD:PUBLISH
BEGIN:VEVENT
UID:19ac65b2e8479acd977fbc77f8b8922b
CATEGORIES:8. Bezirk
CREATED:20220216T122603
SUMMARY:Wie viel Wahrheit braucht mein Kind
LOCATION:EKIZ Wien\, Piaristegasse 32\, 1080 Wien
DESCRIPTION:Vortragende:\n\nMag. Brigitte Wysoudil-Dobrowsky\nPädagogin, Familienberate
 rin ausgebildet bei Jesper Juul\n von kleinen und großen Lügen, über große 
 seelische Lasten und schweren schmerzlichen Wahrheiten - Wie und wann sag i
 chs meinem Kind!\n"G'schichtln erzählen", Unwahrheiten und Lügen - kleine u
 nd große - begleiten unseren Alltag! Vieles davon muten wir unseren Kindern
  ohne große Überlegungen zu.\nDer Klapperstorch, Nikolaus, Osterhase und da
 s Christkind sowie viele Traditionen gehören ebenso dazu. Welche Wahrheiten
  sollen wir wann unseren Kindern mitteilen und wie viel Aufrichtigkeit brau
 chen sie wirklich?!\nKönnen unsere Kinder große seelische Lasten verkraften
  und wie kann man bei schweren und schmerzlichen Wahrheiten mit den Kindern
  umgehen?\n \nThemen:\n\n - Das Thema "Wahrheit" in Bezug auf die kindliche
  Entwicklung\n - Erwachsene als Modell - wie Aufrichtigkeit die Beziehung z
 wischen Eltern und Kindern beeinflusst\n - Das Bedürfnis kindliche Gefühle 
 zu steuern\n - Die Beteiligung unserer Kinder an Realitäten des Lebens\n - 
 Die schwarze Pädagogik unserer Vorfahren, sowie das Einführen höherer Mächt
 e zur Einschüchterung von Kindern\n - Konsequenzen für unseren Umgang mit d
 em magischen Denken unserer Kinder\n - Familiengeheimnisse und ihre Wirkung
 \n - Kinder in "besonderen Familien"\n - Große Lasten des Lebens - Beispiel
 e behutsamer Vermittlung \nTermin:\nFr. 19. Oktober 2022, 17.30 - 20.30 Uhr
 \n
X-ALT-DESC;FMTTYPE=text/html:<p><span style="text-decoration: underline;">Vortragende:<br /></span><br /
 ><strong>Mag. Brigitte Wysoudil-Dobrowsky</strong><br />Pädagogin, Familien
 beraterin ausgebildet bei Jesper Juul</p><p> von kleinen und großen Lügen, 
 über große seelische Lasten und schweren schmerzlichen Wahrheiten - Wie und
  wann sag ichs meinem Kind!</p><p>"G'schichtln erzählen", Unwahrheiten und 
 Lügen - kleine und große - begleiten unseren Alltag! Vieles davon muten wir
  unseren Kindern ohne große Überlegungen zu.<br />Der Klapperstorch, Nikola
 us, Osterhase und das Christkind sowie viele Traditionen gehören ebenso daz
 u. Welche Wahrheiten sollen wir wann unseren Kindern mitteilen und wie viel
  Aufrichtigkeit brauchen sie wirklich?!<br />Können unsere Kinder große see
 lische Lasten verkraften und wie kann man bei schweren und schmerzlichen Wa
 hrheiten mit den Kindern umgehen?</p><p> </p><p><strong>Themen:</strong></p
 ><ul><li>Das Thema "Wahrheit" in Bezug auf die kindliche Entwicklung</li><l
 i>Erwachsene als Modell - wie Aufrichtigkeit die Beziehung zwischen Eltern 
 und Kindern beeinflusst</li><li>Das Bedürfnis kindliche Gefühle zu steuern<
 /li><li>Die Beteiligung unserer Kinder an Realitäten des Lebens</li><li>Die
  schwarze Pädagogik unserer Vorfahren, sowie das Einführen höherer Mächte z
 ur Einschüchterung von Kindern</li><li>Konsequenzen für unseren Umgang mit 
 dem magischen Denken unserer Kinder</li><li>Familiengeheimnisse und ihre Wi
 rkung</li><li>Kinder in "besonderen Familien"</li><li>Große Lasten des Lebe
 ns - Beispiele behutsamer Vermittlung</li></ul><p> </p><p><strong>Termin:</
 strong></p><p>Fr. 19. Oktober 2022, 17.30 - 20.30 Uhr</p>
CONTACT:https://www.elternkindzentrum.com/kurse/kurse-fuer-eltern/113/wie-viel-wahrheit-braucht-mein-kind.html
X-EXTRAINFO:[preis='4500'][anmeldung='true']
DTSTAMP:20260424T212406
DTSTART:20221019T153000
DTEND:20221019T183000
SEQUENCE:0
TRANSP:OPAQUE
END:VEVENT
END:VCALENDAR