BEGIN:VCALENDAR
VERSION:2.0
PRODID:-//jEvents 2.0 for Joomla//EN
CALSCALE:GREGORIAN
METHOD:PUBLISH
BEGIN:VEVENT
UID:af9d5da1e0e5758e151cbb7835a0a73d
CATEGORIES:12. Bezirk
CREATED:20220222T073357
SUMMARY:MaMUSIC-Mama lernt Gitarre, das Baby ist dabei !
LOCATION:Zoom
DESCRIPTION:MaMUSIC GITARRE KURS per ZOOM\nfür Mamas, Papas oder Interessierte gemütlic
 h zu Hause egal wo du wohnst\nSTART\nAb Mi. 23. März 2022 (weitere Termine 
 30.3.,13.4.,20.4.,4.5.)\n10:00 Uhr\n5 x 40min. per Zoom inkl. Handout \n5-1
 0 TN\nDu möchtest ein paar Lieder auf der Gitarre begleiten lernen oder es 
 einfach einmal ausprobieren?\nDie Karenzzeit bietet sich hier an und Dein B
 aby darf dabei sein, somit brauchst Du keinen Babysitter!\nNatürlich kann d
 er Kurs auch von allen Interessierten ohne Baby mitgemacht werden \nIn gemü
 tlicher Runde leite ich Dich live an und zeige Dir alle Griffe, Basics und 
 Kinderlieder, mit diesen man wunderbar und einfach mit dem Gitarrenspiel st
 arten kann - abschließend singen wir ein Lied gemeinsam oder mit Deinem Kin
 d zum Entspannten !\nDeine Fragen kannst Du am Ende stellen oder Du nutzt d
 en Q&amp;A der gelegentlich separat stattfinden wird. (Für Kursteilnehmer K
 ostenfrei)\nDeine Kamera kannst Du einschalten, ich freue mich mit euch dir
 ekt zu kommunizieren, du musst aber nicht. Somit alles gemütlich und es gib
 t auch den Chat zur Kommunikation!\nAnmeldung erforderlich unter:\nstudio@2
 -Klang.at\nMelde Dich zu meinem monatlichen Newsletter auf der Homepage an 
 - hier erhältst Du alle Infos!\nwww.2-Klang.at (http://www.2-Klang.at)\nMei
 ne FB Seite: Seelenkisterl - Klang &amp; Musikworkshops\nKomm in meine Face
 book Austauschgruppe: Musik &amp; Klang Kisterl\n
X-ALT-DESC;FMTTYPE=text/html:<p>MaMUSIC GITARRE KURS per ZOOM<br />für Mamas, Papas oder Interessierte g
 emütlich zu Hause egal wo du wohnst</p><p>START<br />Ab Mi. 23. März 2022 (
 weitere Termine 30.3.,13.4.,20.4.,4.5.)<br />10:00 Uhr<br />5 x 40min. per 
 Zoom inkl. Handout <br />5-10 TN</p><p>Du möchtest ein paar Lieder auf der 
 Gitarre begleiten lernen oder es einfach einmal ausprobieren?<br />Die Kare
 nzzeit bietet sich hier an und Dein Baby darf dabei sein, somit brauchst Du
  keinen Babysitter!<br />Natürlich kann der Kurs auch von allen Interessier
 ten ohne Baby mitgemacht werden </p><p>In gemütlicher Runde leite ich Dich 
 live an und zeige Dir alle Griffe, Basics und Kinderlieder, mit diesen man 
 wunderbar und einfach mit dem Gitarrenspiel starten kann - abschließend sin
 gen wir ein Lied gemeinsam oder mit Deinem Kind zum Entspannten !</p><p>Dei
 ne Fragen kannst Du am Ende stellen oder Du nutzt den Q&amp;A der gelegentl
 ich separat stattfinden wird. (Für Kursteilnehmer Kostenfrei)</p><p>Deine K
 amera kannst Du einschalten, ich freue mich mit euch direkt zu kommuniziere
 n, du musst aber nicht. Somit alles gemütlich und es gibt auch den Chat zur
  Kommunikation!</p><p>Anmeldung erforderlich unter:<br />studio@2-Klang.at<
 /p><p>Melde Dich zu meinem monatlichen Newsletter auf der Homepage an - hie
 r erhältst Du alle Infos!</p><p><a href="http://www.2-Klang.at">www.2-Klang
 .at</a></p><p>Meine FB Seite: Seelenkisterl - Klang &amp; Musikworkshops</p
 ><p>Komm in meine Facebook Austauschgruppe: Musik &amp; Klang Kisterl</p>
CONTACT:studio@2-Klang.at
X-EXTRAINFO:[preis='17500'][anmeldung='true']
DTSTAMP:20260425T023128
DTSTART:20220323T090000
DTEND:20220323T094500
SEQUENCE:0
TRANSP:OPAQUE
END:VEVENT
END:VCALENDAR