BEGIN:VCALENDAR
VERSION:2.0
PRODID:-//jEvents 2.0 for Joomla//EN
CALSCALE:GREGORIAN
METHOD:PUBLISH
BEGIN:VEVENT
UID:8e16717998b075fb96919ef184c71a37
CATEGORIES:6. Bezirk
CREATED:20220227T182503
SUMMARY:Babyschlaf-Workshop
LOCATION:6.\, Sandwirtgasse 13/12\, 1060 Wien
DESCRIPTION:Babyschlaf-Workshop "Schlaf Kindlein schlaf ... oder doch nicht?"\nBabyschl
 af – so gut wie kein anderes Thema bewegt Eltern so sehr, wie der Schlaf de
 s Babys.\nIm Babyschlaf-Treff nimmt sich Expertin Corina, 1001kindernacht® 
 Schlafberaterin, Zeit mit dir und den anderen ausführlich über das Thema zu
  sprechen und die wichtigsten Punkte in der kindlichen Schlafentwicklung zu
  erklären.\n \nIm Workshop sprechen wir über:\n- den menschliche Schlaf\n- 
 die kindliche Schlafentwicklung\n- die kindlichen Bedürfnisse\n- „Kinder br
 auchen uns auch nachts – Warum Schlaftrainings nicht empfehlenswert sind“\n
 - die Eltern-Kind-Bindung\n- Schlafen und Stillen\n- SIDS – Sudden Infant D
 eath Syndrom\n- die Rolle des Papas\n \nDu kannst gerne mit deinem Kind kom
 men. Dafür bereiten wir eine Spielumgebung mit Spiel- und Beschäftigungsmat
 erial vor.\nDu bekommst ein Handout mit vielen weiteren Informationen zum W
 eiter- und Nachlesen.\nWann:\n3 Termine zur Auswahl\n\n - März 2022\n - Mai
  2022\n - Juni 2022Uhrzeit: jeweils von 15.00 bis 17.00 Uhr\nKosten: € 42,-
  pro Person, € 65,- pro Paar\ninkl. Vortrag, Getränke, Handout\n \nExpertin
 : Corina Zahola\nund Martina Novak\n \nMelde dich hier an:\nhttps://bit.ly/
 3Ir3TrK (https://bit.ly/3Ir3TrK)\n \nWir freuen uns auf euch!\nAlles Liebe,
 \nCorina und Martina\n
X-ALT-DESC;FMTTYPE=text/html:<p>Babyschlaf-Workshop "Schlaf Kindlein schlaf ... oder doch nicht?"</p><p>
 Babyschlaf – so gut wie kein anderes Thema bewegt Eltern so sehr, wie der S
 chlaf des Babys.</p><p>Im Babyschlaf-Treff nimmt sich Expertin Corina, 1001
 kindernacht® Schlafberaterin, Zeit mit dir und den anderen ausführlich über
  das Thema zu sprechen und die wichtigsten Punkte in der kindlichen Schlafe
 ntwicklung zu erklären.</p><p> </p><p>Im Workshop sprechen wir über:</p><p>
 - den menschliche Schlaf</p><p>- die kindliche Schlafentwicklung</p><p>- di
 e kindlichen Bedürfnisse</p><p>- „Kinder brauchen uns auch nachts – Warum S
 chlaftrainings nicht empfehlenswert sind“</p><p>- die Eltern-Kind-Bindung</
 p><p>- Schlafen und Stillen</p><p>- SIDS – Sudden Infant Death Syndrom</p><
 p>- die Rolle des Papas</p><p> </p><p>Du kannst gerne mit deinem Kind komme
 n. Dafür bereiten wir eine Spielumgebung mit Spiel- und Beschäftigungsmater
 ial vor.</p><p>Du bekommst ein Handout mit vielen weiteren Informationen zu
 m Weiter- und Nachlesen.</p><p>Wann:</p><p>3 Termine zur Auswahl</p><ol sta
 rt="31"><li>März 2022</li><li>Mai 2022</li><li>Juni 2022</li></ol><p>Uhrzei
 t: jeweils von 15.00 bis 17.00 Uhr</p><p>Kosten: € 42,- pro Person, € 65,- 
 pro Paar</p><p>inkl. Vortrag, Getränke, Handout</p><p> </p><p>Expertin: Cor
 ina Zahola</p><p>und Martina Novak</p><p> </p><p>Melde dich hier an:</p><p>
 <a href="https://bit.ly/3Ir3TrK">https://bit.ly/3Ir3TrK</a></p><p> </p><p>W
 ir freuen uns auf euch!</p><p>Alles Liebe,</p><p>Corina und Martina</p>
CONTACT:martina.novak@biolino.at, 067762892970
X-EXTRAINFO:[preis='4200'][anmeldung='true']
DTSTAMP:20260425T011445
DTSTART:20220331T130000
DTEND:20220331T150000
SEQUENCE:0
TRANSP:OPAQUE
END:VEVENT
END:VCALENDAR