BEGIN:VCALENDAR
VERSION:2.0
PRODID:-//jEvents 2.0 for Joomla//EN
CALSCALE:GREGORIAN
METHOD:PUBLISH
BEGIN:VEVENT
UID:6782ca87fa4310a55160296b7387bab0
CATEGORIES:23. Bezirk
CREATED:20220303T104146
SUMMARY:GRATIS SCHNUPPERSTUNDE - fitdankbaby mit Claudia - Fitness für Dich & Dein Baby
LOCATION:Better Tennis Center Alt Erlaa\,  Erlaaer Str. 56A
DESCRIPTION:Für Mamas mit Babys ab 3 Monaten bis ca. 1 Jahr\n \nDas erwartet Dich:\n\n 
 - Fitnesskurs mit Deinem Baby\n - Effektives Ganzkörperworkout\n - Training
  in Kleingruppen\n - Gemeinsame Zeit mit viel Spaß für Mama UND Baby\n - De
 in Baby ist die gesamte Stunde eingebunden. \n - Kreative Babyspiele und -l
 ieder, um dein Baby aktiv in seiner Entwicklung zu unterstützenWir treffen 
 uns am Donnerstag um 9:30 Uhr im Better Tennis Center Alt Erlaa,  Erlaaer S
 tr. 56A, 1230 Wien zu einer GRATIS SCHNUPPERSTUNDE.\nAb 17.3. startet dann 
 ein 4-Wochen-Kurs. Ein Einstieg in den laufenden Kurs ist jederzeit möglich
 . Der ganze Kurs kostet EUR 52,00 / EUR 13,00 pro Einheit. \n \nBuche Deine
 n Kurs unter:\nwww.fitdankbaby.at/claudia.klinger (http://www.fitdankbaby.a
 t/claudia.klinger) \n \nVerpasse keine News: \nwww.facebook.com/fitdankbaby
 Claudia (http://www.facebook.com/fitdankbabyClaudia) \n\nBei Fragen kannst 
 Du mich gerne unter claudia.klinger@fitdankbaby.at (mailto:claudia.klinger@
 fitdankbaby.at) kontaktieren. \n \nIch freue mich darauf schon bald gemeins
 am mit Dir zu trainieren! \n
X-ALT-DESC;FMTTYPE=text/html:<p>Für Mamas mit Babys ab 3 Monaten bis ca. 1 Jahr</p><p> </p><p><span styl
 e="text-decoration: underline;">Das erwartet Dich:</span></p><ul><li>Fitnes
 skurs mit Deinem Baby</li><li>Effektives Ganzkörperworkout</li><li>Training
  in Kleingruppen</li><li>Gemeinsame Zeit mit viel Spaß für Mama UND Baby</l
 i><li>Dein Baby ist die gesamte Stunde eingebunden. </li><li>Kreative Babys
 piele und -lieder, um dein Baby aktiv in seiner Entwicklung zu unterstützen
 </li></ul><p>Wir treffen uns am Donnerstag um 9:30 Uhr im Better Tennis Cen
 ter Alt Erlaa, <span class="w8qArf"> </span><span class="LrzXr">Erlaaer Str
 . 56A</span>, 1230 Wien zu einer GRATIS SCHNUPPERSTUNDE.</p><p>Ab 17.3. sta
 rtet dann ein 4-Wochen-Kurs. Ein Einstieg in den laufenden Kurs ist jederze
 it möglich. Der ganze Kurs kostet EUR 52,00 / EUR 13,00 pro Einheit. </p><p
 > </p><p><span style="text-decoration: underline;">Buche Deinen Kurs unter:
 </span></p><p><a href="http://www.fitdankbaby.at/claudia.klinger">www.fitda
 nkbaby.at/claudia.klinger</a> </p><p> </p><p><span style="text-decoration: 
 underline;">Verpasse keine News:</span> </p><p><a href="http://www.facebook
 .com/fitdankbabyClaudia">www.facebook.com/fitdankbabyClaudia</a> </p><p><br
  />Bei Fragen kannst Du mich gerne unter <a href="mailto:claudia.klinger@fi
 tdankbaby.at">claudia.klinger@fitdankbaby.at</a> kontaktieren. </p><p> </p>
 <p>Ich freue mich darauf schon bald gemeinsam mit Dir zu trainieren! </p>
CONTACT:Claudia Klinger - claudia.klinger@fitdankbaby.at
X-EXTRAINFO:[preis='000'][anmeldung='true']
DTSTAMP:20260424T211341
DTSTART:20220310T083000
DTEND:20220310T093000
SEQUENCE:0
TRANSP:OPAQUE
END:VEVENT
END:VCALENDAR