BEGIN:VCALENDAR
VERSION:2.0
PRODID:-//jEvents 2.0 for Joomla//EN
CALSCALE:GREGORIAN
METHOD:PUBLISH
BEGIN:VEVENT
UID:9cfc675e4180c7e848d48c93ba480d68
CATEGORIES:6. Bezirk
CREATED:20220308T091336
SUMMARY:Liebevolle Grenzen setzen - Workshop für Eltern und Großeltern)
LOCATION:Biolino Institut\, Sandwirtgasse 13/12\, 1060 Wien
DESCRIPTION:Grenzen setzen, ohne zu verletzen, erziehen ohne Strafen, “Leuchtturm-Führe
 n” und konstruktiv Konflikte lösen: Wie kann das gelingen?\nNeben Gedankene
 xperimenten und spannenden Hintergrundinformationen aus der Gehirnforschung
  und Entwicklungspsychologie bekommt ihr in diesem Workshop vor allem einen
  praktischen Leitfaden, wie ihr euer Familienleben beziehungsorientiert ges
 talten könnt, sowie die Möglichkeit, konkrete Fragen zu stellen. Ein praxis
 naher Workshop für Eltern, Großeltern und Pädagog*innen.\n Workshop-Leitung
 : Mag.a Barbara Grütze\nOrt: Biolino Institut, Sandwirtgasse 13/12, 1060 Wi
 en\nKosten: €32,- pro Person (Paarpreis auf Anfrage)\nAnmeldung: kontakt@be
 ziehungsvoll.at (https://www.app.anoah.at/event/listFromExtern?system=mnova
 k&amp;activity=2204)\n
X-ALT-DESC;FMTTYPE=text/html:<p>Grenzen setzen, ohne zu verletzen, erziehen ohne Strafen, “Leuchtturm-Fü
 hren” und konstruktiv Konflikte lösen: Wie kann das gelingen?</p><p>Neben G
 edankenexperimenten und spannenden Hintergrundinformationen aus der Gehirnf
 orschung und Entwicklungspsychologie bekommt ihr in diesem Workshop vor all
 em einen praktischen Leitfaden, wie ihr euer Familienleben beziehungsorient
 iert gestalten könnt, sowie die Möglichkeit, konkrete Fragen zu stellen. Ei
 n praxisnaher Workshop für Eltern, Großeltern und Pädagog*innen.</p><div cl
 ass="wp-block-spacer"> </div><p><strong>Workshop-Leitung: </strong>Mag.a Ba
 rbara Grütze<br /><strong>Ort: </strong>Biolino Institut, Sandwirtgasse 13/
 12, 1060 Wien<br /><strong>Kosten:</strong> €32,- pro Person (Paarpreis auf
  Anfrage)<br /><strong>Anmeldung</strong>: <a href="https://www.app.anoah.a
 t/event/listFromExtern?system=mnovak&amp;activity=2204" target="_blank" rel
 ="noopener noreferrer">kontakt@beziehungsvoll.at</a></p>
CONTACT:kontakt@beziehungsvoll.at
X-EXTRAINFO:[preis='3200'][anmeldung='true']
DTSTAMP:20260425T023754
DTSTART:20220408T153000
DTEND:20220408T173000
SEQUENCE:0
TRANSP:OPAQUE
END:VEVENT
END:VCALENDAR