BEGIN:VCALENDAR
VERSION:2.0
PRODID:-//jEvents 2.0 for Joomla//EN
CALSCALE:GREGORIAN
METHOD:PUBLISH
BEGIN:VEVENT
UID:cdbe6e2092e611746219632c0550e22d
CATEGORIES:3. Bezirk
CREATED:20220321T102150
SUMMARY:Wochenbett Wellness  -  Von nun an verbunden
LOCATION:LieblingsMAMA Praxis: Apostelgasse 29-31/1/9\, 1030 Wien
DESCRIPTION:Werte, Rituale, Erinnerungen; praktische Handlungswerkzeuge für euch als Fa
 milie und angeleitete Babymassage\nIn diesem Paarurs erwartet euch professi
 onell angeleitete Babymassage, praktische und maßgeschneiderte Handwekzeuge
  für den Alltag als Familie sowie ein exklusives Workbook.\nIn jeder Einhei
 t erwarten euch individuell aufbauende Inhalte, Anleitungen und Tipps:\nAm 
 Ende des Kurses ….\n…kennt ihr die Signale eures Babys und könnt adäquat au
 f diese eingehen.\n… kennt ihr wichtige Massagetechniken (entspannende, bel
 ebende, Koliken lindernde)  und könnt diese bei eurem Baby anwenden.\n… hab
 t ihr euch mit euren Idealvorstellungen und Wertebildern von „guten“ Eltern
  auseinander gesetzt, wisst welche Eltern ihr sein möchtet und was ihr dazu
  braucht.\n… bekommt ihr Anregungen für neue Familienrituale und kreiert eu
 re eigenen Traditionen.\n… entwickelt ihr eure eigenen „Bonding-to-Go Kniff
 e“ und könnt diese im Alltag einsetzen.\n \nIn Kooperation mit der wunderba
 ren Andrea Sulzmann: Babymassagekursleiterin, Tänzerin, Prä- &amp; Postnata
 le Trainerin \nwww.diebabypause.com (https://www.diebabypause.com)
X-ALT-DESC;FMTTYPE=text/html:<p class="sqsrte-large" style="white-space: pre-wrap;">Werte, Rituale, Erin
 nerungen; praktische Handlungswerkzeuge für euch als Familie und angeleitet
 e Babymassage</p><p class="" style="white-space: pre-wrap;">In diesem Paaru
 rs erwartet euch professionell angeleitete Babymassage, praktische und maßg
 eschneiderte Handwekzeuge für den Alltag als Familie sowie ein exklusives W
 orkbook.</p><p class="" style="white-space: pre-wrap;">In jeder Einheit erw
 arten euch individuell aufbauende Inhalte, Anleitungen und Tipps:</p><p cla
 ss="sqsrte-large" style="white-space: pre-wrap;">Am Ende des Kurses ….</p><
 p class="" style="white-space: pre-wrap;">…kennt ihr die Signale eures Baby
 s und könnt adäquat auf diese eingehen.</p><p class="" style="white-space: 
 pre-wrap;">… kennt ihr wichtige Massagetechniken (entspannende, belebende, 
 Koliken lindernde)  und könnt diese bei eurem Baby anwenden.</p><p class=""
  style="white-space: pre-wrap;">… habt ihr euch mit euren Idealvorstellunge
 n und Wertebildern von „guten“ Eltern auseinander gesetzt, wisst welche Elt
 ern ihr sein möchtet und was ihr dazu braucht.</p><p class="" style="white-
 space: pre-wrap;">… bekommt ihr Anregungen für neue Familienrituale und kre
 iert eure eigenen Traditionen.</p><p class="" style="white-space: pre-wrap;
 ">… entwickelt ihr eure eigenen „Bonding-to-Go Kniffe“ und könnt diese im A
 lltag einsetzen.</p><p class="" style="white-space: pre-wrap;"> </p><h4 sty
 le="white-space: pre-wrap;">In Kooperation mit der wunderbaren Andrea Sulzm
 ann: Babymassagekursleiterin, Tänzerin, Prä- &amp; Postnatale Trainerin <br
  /><a href="https://www.diebabypause.com">www.diebabypause.com</a></h4>
CONTACT:Sabine Grasmuk-Siegl, MSc Familienberaterin, Psychologische Beraterin, https://www.lieblingsmama.at/spezialangebote
X-EXTRAINFO:[preis='21800'][anmeldung='true']
DTSTAMP:20260424T222347
DTSTART:20220422T133000
DTEND:20220422T160000
SEQUENCE:0
TRANSP:OPAQUE
END:VEVENT
END:VCALENDAR