BEGIN:VCALENDAR
VERSION:2.0
PRODID:-//jEvents 2.0 for Joomla//EN
CALSCALE:GREGORIAN
METHOD:PUBLISH
BEGIN:VEVENT
UID:7796331a6d6eb7e9f651e72489088e3c
CATEGORIES:2. Bezirk
CREATED:20220325T120537
SUMMARY:Frühlingsmagie und mystische Ostern 
LOCATION:Straßenbahnstation „Prater Hauptallee“ der Linie 1
DESCRIPTION:Sabine Gangl und ich, Andrea Krall gehen mit euch auf einen magischen Kreat
 iv-Spaziergang. Sabine, die Kräuterhexe und ich, die magische Tierexpertin 
 zeigen euch eine Welt voller magischer Kräuter und Tiere mit Zauberkräften.
 \nDabei orientieren wir uns an dem Jahreskreis und zeigen euch immer wieder
  neue interessante Pflanzen und Tiere. Natürlich wird auch gebastelt, gemal
 t, gezupft, gerührt und erzählt.\nDieses Mal dreht sich alles um die Frühli
 ngsmagie und Ostern. Natürlich dürfen kreative Basteleien, ein Kräuterzaube
 r-Rezept und tierische Entdeckungen nicht fehlen. Freut euch auf einen Nach
 mittag voller zauberhafter Abenteuer. \n Termin\nSamstag, 9.4.2022 von 14-1
 6 Uhr \nAlter4-6 Jährige\nPraterTreffpunkt bei der Straßenbahnstation „Prat
 er Hauptallee“ der Linie 1\nKosten1 Teilnehmerpaar (1 Kind und 1 Erwachsene
 r)  38 €\nAnmeldungEinfach per E-Mail an anmeldung@tierischerkreativgarten.
 at (mailto:anmeldung@tierischerkreativgarten.at)\nWeitere Infos unter https
 ://tierischerkreativgarten.at/kurse (https://tierischerkreativgarten.at/kur
 se)\n \n
X-ALT-DESC;FMTTYPE=text/html:<p>Sabine Gangl und ich, Andrea Krall gehen mit euch auf einen magischen Kr
 eativ-Spaziergang. Sabine, die Kräuterhexe und ich, die magische Tierexpert
 in zeigen euch eine Welt voller magischer Kräuter und Tiere mit Zauberkräft
 en.</p><p>Dabei orientieren wir uns an dem Jahreskreis und zeigen euch imme
 r wieder neue interessante Pflanzen und Tiere. Natürlich wird auch gebastel
 t, gemalt, gezupft, gerührt und erzählt.</p><p>Dieses Mal dreht sich alles 
 um die Frühlingsmagie und Ostern. Natürlich dürfen kreative Basteleien, ein
  Kräuterzauber-Rezept und tierische Entdeckungen nicht fehlen. Freut euch a
 uf einen Nachmittag voller zauberhafter Abenteuer. </p><h4> </h4><h4><stron
 g>Termin<br /></strong></h4><p><strong>Samstag, 9.4.2022 von 14-16 Uhr </st
 rong></p><h4>Alter</h4><p>4-6 Jährige</p><h4>Prater</h4><p>Treffpunkt bei d
 er Straßenbahnstation „Prater Hauptallee“ der Linie 1</p><h4>Kosten</h4><p>
 1 Teilnehmerpaar (1 Kind und 1 Erwachsener)  38 €</p><h4>Anmeldung</h4><p>E
 infach per E-Mail an <a href="mailto:anmeldung@tierischerkreativgarten.at">
 anmeldung@tierischerkreativgarten.at</a></p><p>Weitere Infos unter <a href=
 "https://tierischerkreativgarten.at/kurse">https://tierischerkreativgarten.
 at/kurse</a></p><p> </p>
CONTACT:anmeldung@tierischerkreativgarten.at
X-EXTRAINFO:[preis='3800'][anmeldung='true']
DTSTAMP:20260424T193820
DTSTART:20220409T120000
DTEND:20220409T140000
SEQUENCE:0
TRANSP:OPAQUE
END:VEVENT
END:VCALENDAR