BEGIN:VCALENDAR
VERSION:2.0
PRODID:-//jEvents 2.0 for Joomla//EN
CALSCALE:GREGORIAN
METHOD:PUBLISH
BEGIN:VEVENT
UID:5d9f4d03a283940516da2964ec12bcec
CATEGORIES:14. Bezirk
CREATED:20220419T115922
SUMMARY:mamaFIT mit Natascha in der Stadt des Kindes
LOCATION:Spielplatz neben der Stadt des Kindes\, hinter Auhof Center
DESCRIPTION:Treffpunkt: Stadt des Kindes/Hofjägerstraße, vor dem Spielplatz (Parkplätze
  sind imAuhof Center kostenlos verfügbar; die nächste Bushaltestelle ist Wi
 en Wolfgang-Pauli-Gasse (50A und 50B))\n \nWann: Das Training findet jeden 
 Mittwoch Vormittag um 10 Uhr statt\n \nBitte informiere dich über kurzfrist
 ige Änderungen immer über einen meiner 4 Informationskanäle: Instagram (mam
 afit_mit_natascha), Facebook, WhatsApp Gruppe, Telegram Gruppe.\n \nBei mam
 aFIT mit Natascha erwartet dich ein rückbildungsorientiertes Ganzkörper-Kra
 ft-Workout mit Fokus auf Beckenboden und Rektusdiastase. Das Training finde
 t ganzjährig outdoor statt. Bitte kleide dich und dein Kind dem Wetter ents
 prechend und nimm eine Wasserflasche mit. Einstieg jederzeit möglich.\n \nW
 er kann teilnehmen: Schwangere; Jungmamas mit Kinderwagen, Trage, ohne Kind
 er; Begleitpersonen/Verwandte/Freunde (auch Väter)\n \nKosten: Einzelstunde
  14 Euro/ 5er Block 60 Euro/ 10er Block 110 Euro\n \n-&gt; Registriere dich
  gleich kostenlos und unverbindlich unter www.mamafit.at/trainer/natascha-w
 ondrusch (http://www.mamafit.at/trainer/natascha-wondrusch)  und erhalte al
 le Infos zu den Trainings\n
X-ALT-DESC;FMTTYPE=text/html:<p>Treffpunkt: Stadt des Kindes/Hofjägerstraße, vor dem Spielplatz (Parkplä
 tze sind imAuhof Center kostenlos verfügbar; die nächste Bushaltestelle ist
  Wien Wolfgang-Pauli-Gasse (50A und 50B))</p><p> </p><p>Wann: Das Training 
 findet jeden Mittwoch Vormittag um 10 Uhr statt</p><p> </p><p>Bitte informi
 ere dich über kurzfristige Änderungen immer über einen meiner 4 Information
 skanäle: Instagram (mamafit_mit_natascha), Facebook, WhatsApp Gruppe, Teleg
 ram Gruppe.</p><p> </p><p>Bei mamaFIT mit Natascha erwartet dich ein rückbi
 ldungsorientiertes Ganzkörper-Kraft-Workout mit Fokus auf Beckenboden und R
 ektusdiastase. Das Training findet ganzjährig outdoor statt. Bitte kleide d
 ich und dein Kind dem Wetter entsprechend und nimm eine Wasserflasche mit. 
 Einstieg jederzeit möglich.</p><p> </p><p>Wer kann teilnehmen: Schwangere; 
 Jungmamas mit Kinderwagen, Trage, ohne Kinder; Begleitpersonen/Verwandte/Fr
 eunde (auch Väter)</p><p> </p><p>Kosten: Einzelstunde 14 Euro/ 5er Block 60
  Euro/ 10er Block 110 Euro</p><p> </p><p>-&gt; Registriere dich gleich kost
 enlos und unverbindlich unter <a href="http://www.mamafit.at/trainer/natasc
 ha-wondrusch">www.mamafit.at/trainer/natascha-wondrusch</a>  und erhalte al
 le Infos zu den Trainings</p>
CONTACT:natascha.wondrusch@mamafit.at
X-EXTRAINFO:[preis='1200'][anmeldung='false']
DTSTAMP:20260424T193839
DTSTART:20220420T080000
DTEND:20220420T090000
SEQUENCE:0
TRANSP:OPAQUE
END:VEVENT
END:VCALENDAR