BEGIN:VCALENDAR
VERSION:2.0
PRODID:-//jEvents 2.0 for Joomla//EN
CALSCALE:GREGORIAN
METHOD:PUBLISH
BEGIN:VEVENT
UID:e528e41166a50433a7db9fd1bcb2eeb0
CATEGORIES:7. Bezirk
CREATED:20220513T223705
SUMMARY:Kangatraining im Josef-Strauß-Park, Du wirst fit und dein Baby kommt mit!
LOCATION:Josef-Strauß-Park\, 7; Kaiserstraße 104
DESCRIPTION:Du wirst fit und dein Baby kommt mit! Gemeinsam mit deinem Schatz arbeiten 
 wir an deiner Fitness. Es gibt das volle Programm. Von Tanz bis zum Beckenb
 oden, alles ist dabei. Besondere Aufmerksamkeit widmen wir deinem Bauch, da
 ss er wieder schön flach wird. Das Zauberwort heißt Rektusdiastase. Wenn du
  mehr wissen willst, komm und probier es aus!\nAnmeldung und Infos https://
 www.kangatraining.info/at_de/instructor/SabineHarb/booking/2501\n \n \n \n
X-ALT-DESC;FMTTYPE=text/html:<p>Du wirst fit und dein Baby kommt mit! Gemeinsam mit deinem Schatz arbeit
 en wir an deiner Fitness. Es gibt das volle Programm. Von Tanz bis zum Beck
 enboden, alles ist dabei. Besondere Aufmerksamkeit widmen wir deinem Bauch,
  dass er wieder schön flach wird. Das Zauberwort heißt Rektusdiastase. Wenn
  du mehr wissen willst, komm und probier es aus!</p><p>Anmeldung und Infos 
 h<a title="Kangatraining Info" href="https://www.kangatraining.info/at_de/i
 nstructor/SabineHarb/booking/2501">ttps://www.kangatraining.info/at_de/inst
 ructor/SabineHarb/booking/2501</a></p><p> </p><p> </p><p> </p>
CONTACT:sabine@kangatraining.at
X-EXTRAINFO:[preis='1800'][anmeldung='true']
DTSTAMP:20260424T203318
DTSTART:20220519T080000
DTEND:20220519T090000
SEQUENCE:0
TRANSP:OPAQUE
END:VEVENT
END:VCALENDAR