BEGIN:VCALENDAR
VERSION:2.0
PRODID:-//jEvents 2.0 for Joomla//EN
CALSCALE:GREGORIAN
METHOD:PUBLISH
BEGIN:VEVENT
UID:547301bcfa42b3792080bba93a6c2cf0
CATEGORIES:18. Bezirk
CREATED:20220610T103634
SUMMARY:Musik mit Susanne für Kleinkinder 
LOCATION:Spielringel\, Mollgasse 11-13
DESCRIPTION:Musik mit Susanne für Kleinkinder(12- 24 Monate)Dienstag 15:15-16:00\nEinze
 ltermin am 14.06.\nKosten:  €15,-\nDer Gruppenraum wird zum Erlebnis- und B
 ewegungsraum. In gemütlicher, kindgerechter Umgebung können neue Bekanntsch
 aften geschlossen werden.\nJede Stunde regen neue Spielimpulse zum Mitmache
 n an und geben Anreiz zur leichten Umsetzung zu Hause.\nDein Kind hat die M
 öglichkeit sich frei in einer Gruppe Gleichaltriger zu bewegen und dich tro
 tzdem immer als sicheren Hafen zur Einkehr bei sich zu haben.\nAn diesem Ei
 nzeltermin kannst du dir ansehen, wie eine EInheit der Spielgruppe mit Musi
 k ablaufen kann. Im Herbst gbt es dann wieder 5-Wochen Kurse!\n
X-ALT-DESC;FMTTYPE=text/html:<h2 class="element-header ">Musik mit Susanne für Kleinkinder</h2><h4>(12- 
 24 Monate)</h4><p>Dienstag 15:15-16:00</p><p>Einzeltermin am 14.06.</p><p><
 span class="text-primary font-weight-bold">Kosten: </span> €15,-</p><p>Der 
 Gruppenraum wird zum Erlebnis- und Bewegungsraum. In gemütlicher, kindgerec
 hter Umgebung können neue Bekanntschaften geschlossen werden.</p><p>Jede St
 unde regen neue Spielimpulse zum Mitmachen an und geben Anreiz zur leichten
  Umsetzung zu Hause.</p><p>Dein Kind hat die Möglichkeit sich frei in einer
  Gruppe Gleichaltriger zu bewegen und dich trotzdem immer als sicheren Hafe
 n zur Einkehr bei sich zu haben.</p><p>An diesem Einzeltermin kannst du dir
  ansehen, wie eine EInheit der Spielgruppe mit Musik ablaufen kann. Im Herb
 st gbt es dann wieder 5-Wochen Kurse!</p>
CONTACT:www.spielringel.at
X-EXTRAINFO:[preis='1500'][anmeldung='true']
DTSTAMP:20260425T025641
DTSTART:20220614T131500
DTEND:20220614T140000
SEQUENCE:0
TRANSP:OPAQUE
END:VEVENT
END:VCALENDAR