BEGIN:VCALENDAR
VERSION:2.0
PRODID:-//jEvents 2.0 for Joomla//EN
CALSCALE:GREGORIAN
METHOD:PUBLISH
BEGIN:VEVENT
UID:9f8dcfc50198606e3f60fccf7536fba0
CATEGORIES:18. Bezirk
CREATED:20220818T111653
SUMMARY:Flohmarkt 
LOCATION:Mal-Atelier Gersthof\, Gersthofer Str. 128
DESCRIPTION:<p>Spielzeug, Bücher, Kindersachen (v.a. für 0-3 Jährige)</p><p> </p><p>Ein
 fach vorbeikommen und Stöbern!</p>
CONTACT:0677-63820944
DTSTAMP:20260424T224004
DTSTART:20220828T120000
DTEND:20220828T140000
SEQUENCE:0
TRANSP:OPAQUE
END:VEVENT
END:VCALENDAR