BEGIN:VCALENDAR
VERSION:2.0
PRODID:-//jEvents 2.0 for Joomla//EN
CALSCALE:GREGORIAN
METHOD:PUBLISH
BEGIN:VEVENT
UID:4840db8b7d181281b10848ea46aaf9ee
CATEGORIES:7. Bezirk
CREATED:20220825T075857
SUMMARY:HERZLICH WILLKOMMEN - sanfte Aromapflege zur Hautpflege der Kleinsten und Linderung erster Beschwerden
LOCATION:Nanaya\, Zollergasse 37\, 1070 Wien
DESCRIPTION:-&gt; auf der Nanaya Website noch unter dem Namen ursprünglichen Seminartit
 el "Babyhaut natürlich gut gepflegt" angeführt!\n \nWAS ERWARTET DICH?\nÄth
 erische Öle und ihre "Pflanzenpower" sind für die Kleinsten nur bedingt gee
 ignet. Uns stehen jedoch viele fette Pflanzenöle und Hydrolate zur Verfügun
 g, um die ersten Beschwerden auf eine sanfte Weise zu lindern und die Haut 
 auf eine ganz natürliche Weise zu pflegen!\n\n - Wir widmen uns unter ander
 em der Hautpflege nach dem Bad und der Pflege der Haut im strapazierten Win
 delbereich. \n\n - Ich zeige dir, wie du dein Baby entsprechend der Jahresz
 eiten optimal pflegst - je nachdem ob ein eisiger Wind ums Näschen weht ode
 r die ersten Sonnenstrahlen die Zehenspitzen kitzeln. \n\n - Natürliche Bad
 ezusätze, Reinigungstücher und vieles mehr kannst du (nach den persönlichen
  Duftvorlieben) selbst herstellen. Ich gebe dir Tipps für eine unkomplizier
 te (familienalltagstaugliche) Umsetzung daheim.? ? \n\n - Beschwerden wie S
 chmerzen beim Zahnen, Blähungen oder Schnupfennasen können durch die sanfte
  Anwendung der Aromapflege sowie bewährte Hausmittel gelindert werden. Auch
  dazu gibt es bewährte Tipps und Anwendungsempfehlungen. \nPREISE:\npro Per
 son: 22.-\npro Paar: 28.-\nfür Nanaya Mitglieder: 18.-\nDas Handout (inkl. 
 vieler Rezeptvorschläge) kann vor Ort um 10.- erworben werden.\nDie fetten 
 Pflanzenöle, Hydrolate, Anschauungsmaterial uvm. stelle ich vor Ort zum Rie
 chen, Testen und Kennenlernen zur Verfügung.\n \nKEINEN BABYSITTER GEFUNDEN
 ? Kein Problem, dein Kleines kann dich ruhig zu unserem Workshop begleiten!
  \n \n
X-ALT-DESC;FMTTYPE=text/html:<p>-&gt; auf der Nanaya Website noch unter dem Namen ursprünglichen Seminar
 titel "Babyhaut natürlich gut gepflegt" angeführt!</p><p> </p><p>WAS ERWART
 ET DICH?</p><p>Ätherische Öle und ihre "Pflanzenpower" sind für die Kleinst
 en nur bedingt geeignet. Uns stehen jedoch viele fette Pflanzenöle und Hydr
 olate zur Verfügung, um die ersten Beschwerden auf eine sanfte Weise zu lin
 dern und die Haut auf eine ganz natürliche Weise zu pflegen!</p><ul><li>Wir
  widmen uns unter anderem der Hautpflege nach dem Bad und der Pflege der Ha
 ut im strapazierten Windelbereich.</li></ul><p> </p><ul><li>Ich zeige dir, 
 wie du dein Baby entsprechend der Jahreszeiten optimal pflegst - je nachdem
  ob ein eisiger Wind ums Näschen weht oder die ersten Sonnenstrahlen die Ze
 henspitzen kitzeln.</li></ul><p> </p><ul><li>Natürliche Badezusätze, Reinig
 ungstücher und vieles mehr kannst du (nach den persönlichen Duftvorlieben) 
 selbst herstellen. Ich gebe dir Tipps für eine unkomplizierte (familienallt
 agstaugliche) Umsetzung daheim.? ?</li></ul><p> </p><ul><li>Beschwerden wie
  Schmerzen beim Zahnen, Blähungen oder Schnupfennasen können durch die sanf
 te Anwendung der Aromapflege sowie bewährte Hausmittel gelindert werden. Au
 ch dazu gibt es bewährte Tipps und Anwendungsempfehlungen.</li></ul><p> </p
 ><p>PREISE:</p><p>pro Person: 22.-</p><p><span style="font-size: 12.16px;">
 pro Paar: 28.-</span></p><p>für Nanaya Mitglieder: 18.-</p><p>Das Handout (
 inkl. vieler Rezeptvorschläge) kann vor Ort um 10.- erworben werden.</p><p>
 Die fetten Pflanzenöle, Hydrolate, Anschauungsmaterial uvm. stelle ich vor 
 Ort zum Riechen, Testen und Kennenlernen zur Verfügung.</p><p> </p><p>KEINE
 N BABYSITTER GEFUNDEN? Kein Problem, dein Kleines kann dich ruhig zu unsere
 m Workshop begleiten! </p><p> </p>
CONTACT:https://nanaya.at/babyhaut-natuerlich-gut-gepflegt
X-EXTRAINFO:[preis='2200'][anmeldung='true']
DTSTAMP:20260424T224755
DTSTART:20221111T090000
DTEND:20221111T113000
SEQUENCE:0
TRANSP:OPAQUE
END:VEVENT
END:VCALENDAR