BEGIN:VCALENDAR
VERSION:2.0
PRODID:-//jEvents 2.0 for Joomla//EN
CALSCALE:GREGORIAN
METHOD:PUBLISH
BEGIN:VEVENT
UID:bcd84614902cbae0567bea30fd1f1cdc
CATEGORIES:11. Bezirk
CREATED:20220825T080344
SUMMARY:(online) Gestärkt durch die Erkältungszeit 
LOCATION:online via Ms Teams
DESCRIPTION: - Weil rote Nasen nur Rudolph Rentier stehen -\n \nKENNST DU DAS AUCH?\n \
 n\n - Bis ins warme Frühjahr hinein sind Schnupfennasen treue (hartnäckige)
  Begleiter\n - Schlaflose Nächte wegen belastender Hustenattacken\n - Ohren
 ,- und Halsschmerzen, die mit ihrem Auftreten gefühlt nur darauf warten, da
 ss die Arztpraxis Freitag Nachmittag schließt \nMit Hilfe der Aromapflege i
 st es dir möglich, diese und viele weitere Beschwerden von Erkältungskrankh
 eiten auf sanfte Weise zu lindern!\nIch zeige dir, welche ätherischen Öle, 
 fetten Pflanzenöle und Hydrolate sich dazu eignen und welche vielfältigen A
 nwendungsmöglichkeiten dir dabei zur Verfügung stehen. Ganz gleich ob Raumb
 eduftung, Badezusatz oder Wickel- ich verrate dir bewährte Tricks für eine 
 unkomplizierte (und familienalltagstaugliche) Umsetzung.\nWeiters stelle ic
 h dir meine beliebtesten Hausmittel vor. Denn mit ganz einfachen Zutaten, d
 ie du höchstwahrscheinlich sogar daheim hast, ist es dir möglich, viele Sym
 ptome von Erkältungskrankheiten rasch und ohne großen Aufwand zu lindern.\n
 Und da es das Beste wäre gar nicht erst zu erkranken, erfährst du, wie du m
 it Hilfe der Aromapflege das Immunsystem von dir und deiner Familie stärken
  beziehungsweise einer gegenseitigen Ansteckung vorbeugen kannst.\n \nKOSTE
 N: 50.- p. Person\ninkl. Handout (pdf) und Duftpost, damit du auch daheim v
 or dem PC nicht auf Sinneseindrücke verzichten musst und die AromaHelferlei
 n uvm. kennenlernen kannst.\n \nANMELDESCHLUSS: Mittwoch 19.10  (damit dich
  meine Duftpost auch rechtzeitig erreicht)\n \n
X-ALT-DESC;FMTTYPE=text/html:<p> - Weil rote Nasen nur Rudolph Rentier stehen -</p><p> </p><p>KENNST DU 
 DAS AUCH?</p><p> </p><ul><li>Bis ins warme Frühjahr hinein sind Schnupfenna
 sen treue (hartnäckige) Begleiter</li><li>Schlaflose Nächte wegen belastend
 er Hustenattacken</li><li>Ohren,- und Halsschmerzen, die mit ihrem Auftrete
 n gefühlt nur darauf warten, dass die Arztpraxis Freitag Nachmittag schließ
 t</li></ul><p> </p><p>Mit Hilfe der Aromapflege ist es dir möglich, diese u
 nd viele weitere Beschwerden von Erkältungskrankheiten auf sanfte Weise zu 
 lindern!</p><p>Ich zeige dir, welche ätherischen Öle, fetten Pflanzenöle un
 d Hydrolate sich dazu eignen und welche vielfältigen Anwendungsmöglichkeite
 n dir dabei zur Verfügung stehen. Ganz gleich ob Raumbeduftung, Badezusatz 
 oder Wickel- ich verrate dir bewährte Tricks für eine unkomplizierte (und f
 amilienalltagstaugliche) Umsetzung.</p><p>Weiters stelle ich dir meine beli
 ebtesten Hausmittel vor. Denn mit ganz einfachen Zutaten, die du höchstwahr
 scheinlich sogar daheim hast, ist es dir möglich, viele Symptome von Erkält
 ungskrankheiten rasch und ohne großen Aufwand zu lindern.</p><p>Und da es d
 as Beste wäre gar nicht erst zu erkranken, erfährst du, wie du mit Hilfe de
 r Aromapflege das Immunsystem von dir und deiner Familie stärken beziehungs
 weise einer gegenseitigen Ansteckung vorbeugen kannst.</p><p> </p><p>KOSTEN
 : 50.- p. Person</p><p>inkl. Handout (pdf) und Duftpost, damit du auch dahe
 im vor dem PC nicht auf Sinneseindrücke verzichten musst und die AromaHelfe
 rlein uvm. kennenlernen kannst.</p><p> </p><p>ANMELDESCHLUSS: Mittwoch 19.1
 0  (damit dich meine Duftpost auch rechtzeitig erreicht)</p><p> </p>
CONTACT:www.makili.at; makili@gmx.at
X-EXTRAINFO:[preis='5000'][anmeldung='true']
DTSTAMP:20260424T175151
DTSTART:20221022T080000
DTEND:20221022T110000
SEQUENCE:0
TRANSP:OPAQUE
END:VEVENT
END:VCALENDAR