BEGIN:VCALENDAR
VERSION:2.0
PRODID:-//jEvents 2.0 for Joomla//EN
CALSCALE:GREGORIAN
METHOD:PUBLISH
BEGIN:VEVENT
UID:aa017861cc7bbe30d730a1981a31c091
CATEGORIES:17. Bezirk
CREATED:20220907T130444
SUMMARY:Familienkonzert "Das klingende Wohnzimmer"  | Taama
LOCATION:Reaktor\, Geblergasse 36-40\, 1170 Wien
DESCRIPTION:Interpreten\n - Nadège Ouedraogo Gesang\n - Benoît Leseure Violine\n\n\n - 
 Gaëtane Reginster Idee, Regie\n - Yves Hanosset Bühnenbild, Kostüme\n - Lau
 rence Grosfils Bühnenbild, Kostüme\n - Daniela Ginevro Assistenz\n - Vincen
 t Stevens Licht, TechnikFür die ganze Familie, empfohlen für Kinder von 1-1
 2 Jahren\nTaama bedeutet »Reise« in der Sprache der Dioula und führt eine S
 ängerin aus Burkina Faso und einen bretonischen Geiger in eine bunte Welt a
 us traditionellen Geschichten und klassischen Melodien. Eine musikalische G
 eschichte über Geborgenheit, Halt und Freundschaft.\nEine Produktion vom Th
 éâtre La Guimbarde aus Belgien \nDauer: ca. 50 Minuten\nfreie Platzwahl\nMi
 t freundlicher Unterstützung von Bösendorfer.\n
X-ALT-DESC;FMTTYPE=text/html:<div class="d-block my-3"><h2><strong>Interpreten</strong></h2><ul><li><str
 ong>Nadège Ouedraogo</strong> Gesang</li><li><strong>Benoît Leseure</strong
 > Violine<br /><br /></li><li><strong>Gaëtane Reginster</strong> Idee, Regi
 e</li><li><strong>Yves Hanosset</strong> Bühnenbild, Kostüme</li><li><stron
 g>Laurence Grosfils</strong> Bühnenbild, Kostüme</li><li><strong>Daniela Gi
 nevro</strong> Assistenz</li><li><strong>Vincent Stevens</strong> Licht, Te
 chnik</li></ul></div><div class="d-block mt-5 mb-3"><p class="bigger"><stro
 ng>Für die ganze Familie, empfohlen für Kinder von 1-12 Jahren</strong></p>
 <p>Taama bedeutet »Reise« in der Sprache der Dioula und führt eine Sängerin
  aus Burkina Faso und einen bretonischen Geiger in eine bunte Welt aus trad
 itionellen Geschichten und klassischen Melodien. Eine musikalische Geschich
 te über Geborgenheit, Halt und Freundschaft.</p><p><em>Eine Produktion vom 
 Théâtre La Guimbarde aus Belgien </em></p><p><em>Dauer: ca. 50 Minuten<br /
 >freie Platzwahl</em></p><p><em>Mit freundlicher Unterstützung von Bösendor
 fer.</em></p></div>
CONTACT:https://www.jeunesse.at/programm/veranstaltungsdetails/das-klingende-wohnzimmer-taama
X-EXTRAINFO:[preis='1200'][anmeldung='true']
DTSTAMP:20260424T222157
DTSTART:20220925T130000
DTEND:20220925T135000
SEQUENCE:0
TRANSP:OPAQUE
END:VEVENT
END:VCALENDAR