BEGIN:VCALENDAR
VERSION:2.0
PRODID:-//jEvents 2.0 for Joomla//EN
CALSCALE:GREGORIAN
METHOD:PUBLISH
BEGIN:VEVENT
UID:8b29619a4237322ef9065b552060e7cb
CATEGORIES:8. Bezirk
CREATED:20220926T215058
SUMMARY:Kling Bim - Kinderkonzert
LOCATION:Kabarett Niedermair
DESCRIPTION:"Wenn der Floh Walzer tanzt" ... Fantastische Tierlieder\nKomm, sing und ta
 nz mit dem Kinderlieder Trio Kling Bim.\n \nKinderkonzert\nWo: Kabarett Nie
 dermair\nEinlass ab 15:30h\n \nKarten, Reservierungen und Infos über www.ni
 edermair.at (http://www.niedermair.at)\n \n
X-ALT-DESC;FMTTYPE=text/html:<p>"Wenn der Floh Walzer tanzt" ... Fantastische Tierlieder</p><p>Komm, sin
 g und tanz mit dem Kinderlieder Trio Kling Bim.</p><p> </p><p>Kinderkonzert
 </p><p>Wo: Kabarett Niedermair</p><p>Einlass ab 15:30h</p><p> </p><p>Karten
 , Reservierungen und Infos über <a href="http://www.niedermair.at">www.nied
 ermair.at</a></p><p> </p>
CONTACT:www.niedermair.at
X-EXTRAINFO:[anmeldung='true']
DTSTAMP:20260424T224746
DTSTART:20221105T150000
SEQUENCE:0
TRANSP:OPAQUE
END:VEVENT
END:VCALENDAR