BEGIN:VCALENDAR
VERSION:2.0
PRODID:-//jEvents 2.0 for Joomla//EN
CALSCALE:GREGORIAN
METHOD:PUBLISH
BEGIN:VEVENT
UID:05b18257ca97a6ddc465e9908c2cda83
CATEGORIES:13. Bezirk
CREATED:19700101T010000
SUMMARY:Beckenbodenyoga
LOCATION:Veda Vital\, Altgasse 23\, 1130 Wien
DESCRIPTION:<div id="cc-m-11536383097" class="j-module n j-textWithImage "><div><div id
 ="cc-m-textwithimage-11536383097" class="cc-m-textwithimage-inline-rte" dat
 a-name="text" data-action="text"><p><b>Beckenbodenyoga</b></p></div></div><
 /div><div id="cc-m-11519746997" class="j-module n j-text "><p>Für alle, die
  z.B. nach einer Geburt etwas für die Rückbildung tun wollen und für alle a
 nderen, die ihren Beckenboden stärken möchten. Die Einheiten vereinen passe
 nde Asanas mit Körperübungen, die ganz gezielt den Beckenboden und deinen R
 umpf stärken. Du lernst die einzelnen Muskelschichten des Beckenbodens kenn
 en und ansteuern.</p><p>Natürlich belastet eine Geburt den Beckenboden extr
 em, aber auch bereits die 9 Monate Schwangerschaft leiern den Beckenboden s
 tark aus, aber auch bei Kaiserschnitt-Geburten ist das Beckenbodentraining 
 daher sehr wichtig, denn das Gewicht von Kind und Gebärmutter haben über vi
 ele Monate hinweg einen immensen Druck auf das Gewebe ausgeübt. Generell wi
 rd empfohlen, dass alle Frauen ab dem 25. Lebensjahr präventiv ihren Becken
 boden trainieren sollten, um Beckenboden-Problemen vorzubeugen. UND selbst 
 wenn du (noch) keine fühlbaren Probleme mit dem Beckenboden hast, ist ein r
 egelmäßiges Training der Beckenbodenmuskulatur für deine zukünftige (auch s
 exuelle Gesundheit sehr wichtig. Der Kurs ist für <strong>Frauen und Männer
 </strong> geeignet. <br />Der Einstieg ist jederzeit möglich. Gut zu wissen
 :  Es ist nie zu spät um mit dem Beckenbodentraining zu beginnen. </p></div
 >
X-ALT-DESC;FMTTYPE=text/html:<div id="cc-m-11536383097" class="j-module n j-textWithImage "><div><div id
 ="cc-m-textwithimage-11536383097" class="cc-m-textwithimage-inline-rte" dat
 a-name="text" data-action="https://www.babymamas.at/text"><p><b>Beckenboden
 yoga</b></p></div></div></div><div id="cc-m-11519746997" class="j-module n 
 j-text "><p>Für alle, die z.B. nach einer Geburt etwas für die Rückbildung 
 tun wollen und für alle anderen, die ihren Beckenboden stärken möchten. Die
  Einheiten vereinen passende Asanas mit Körperübungen, die ganz gezielt den
  Beckenboden und deinen Rumpf stärken. Du lernst die einzelnen Muskelschich
 ten des Beckenbodens kennen und ansteuern.</p><p>Natürlich belastet eine Ge
 burt den Beckenboden extrem, aber auch bereits die 9 Monate Schwangerschaft
  leiern den Beckenboden stark aus, aber auch bei Kaiserschnitt-Geburten ist
  das Beckenbodentraining daher sehr wichtig, denn das Gewicht von Kind und 
 Gebärmutter haben über viele Monate hinweg einen immensen Druck auf das Gew
 ebe ausgeübt. Generell wird empfohlen, dass alle Frauen ab dem 25. Lebensja
 hr präventiv ihren Beckenboden trainieren sollten, um Beckenboden-Problemen
  vorzubeugen. UND selbst wenn du (noch) keine fühlbaren Probleme mit dem Be
 ckenboden hast, ist ein regelmäßiges Training der Beckenbodenmuskulatur für
  deine zukünftige (auch sexuelle Gesundheit sehr wichtig. Der Kurs ist für 
 <strong>Frauen und Männer</strong> geeignet. <br />Der Einstieg ist jederze
 it möglich. Gut zu wissen:  Es ist nie zu spät um mit dem Beckenbodentraini
 ng zu beginnen. </p></div>
CONTACT:www.yogavibe.at
X-EXTRAINFO:[preis='16500'][anmeldung='true']
DTSTAMP:20260424T153750
DTSTART:20221102T130000
DTEND:20221102T140000
SEQUENCE:0
RRULE:FREQ=WEEKLY;UNTIL=20230201T000000Z;INTERVAL=1;BYDAY=WE
TRANSP:OPAQUE
END:VEVENT
END:VCALENDAR