BEGIN:VCALENDAR
VERSION:2.0
PRODID:-//jEvents 2.0 for Joomla//EN
CALSCALE:GREGORIAN
METHOD:PUBLISH
BEGIN:VEVENT
UID:a5505042e45bbbf9bf9c511dddcc7f6e
CATEGORIES:Wien Umgebung
CREATED:20221018T083559
SUMMARY:Advents- & Kekserlwerkstatt 
LOCATION:craftort Lanzendorf bei Wien
DESCRIPTION:Kinder ab 5 Jahren backen und verzieren Kekse.\n Kleinkinder bis 4 Jahre kö
 nnen mit ihrer Begleitperson ebenso Kekserl verzieren und zum Thema Advent 
 Fingerfarben-Bilder und mehr gestalten.\n\n Wann: Donnerstag, 08.12.22 (Fei
 ertag) \n Bitte die Uhrzeiten je nach Alter des Kindes beachten. \nFür Kind
 er von 1,5 bis 4 Jahre (+ 1 Begleitperson) -&gt; 10-11:30 Uhr\n Für Kinder 
 von 5 bis 10 Jahre (ohne Begleitperson!) -&gt; 15-16:30 Uhr\nKosten: 32,-€,
  Geschwisterkinder 27,-€ (inkl. Material, Obst &amp; Saft)\n \n ANMELDUNG m
 it Namen &amp; Telefonnummer, Namen &amp; Alter des Kindes per E-Mail an: i
 nfo@craftort.at (mailto:info@craftort.at)\n Mindestteilnehmerzahl: 5\n \n W
 o: „craftort“, Andreas Radlinger-Str. 1a, 2326 Lanzendorf b. Wien \n &gt;Öf
 fentliche Verkehrsmittel: S-Bahn (vom Hbf Wien) bis Lanzendorf-Rannersdorf 
 Bhf + Bus bis Gärtnerei oder Fußweg (ca 15 Min),  \n &gt;Mit dem Auto: S1 A
 bfahrt Rannersdorf. Öffentliche Parkplätze vorhanden.\nIch freue mich auf k
 unterbunte Workshops mit euch, eure Sonja!\n \n Änderungen und Durchführung
  vorbehalten.\nDie nächsten Termine: \n So, 18.12.22 Weihnachts-Kreativwork
 shop\n Details in der jeweiligen Facebook-Veranstaltung und auf der Webseit
 e. \n Anmeldung per E-Mail erforderlich.\n
X-ALT-DESC;FMTTYPE=text/html:<p>Kinder ab 5 Jahren backen und verzieren Kekse.<br /> Kleinkinder bis 4 J
 ahre können mit ihrer Begleitperson ebenso Kekserl verzieren und zum Thema 
 Advent Fingerfarben-Bilder und mehr gestalten.</p><p><br /> Wann: <strong>D
 onnerstag, 08.12.22 (Feiertag) <br /> </strong>Bitte die Uhrzeiten je nach 
 Alter des Kindes beachten. </p><p>Für Kinder von 1,5 bis 4 Jahre (+ 1 Begle
 itperson) -&gt; 10-11:30 Uhr<br /> Für Kinder von 5 bis 10 Jahre (ohne Begl
 eitperson!) -&gt; 15-16:30 Uhr</p><p>Kosten: 32,-€, Geschwisterkinder 27,-€
  (inkl. Material, Obst &amp; Saft)<br /> <br /> ANMELDUNG mit Namen &amp; T
 elefonnummer, Namen &amp; Alter des Kindes per E-Mail an: <a href="mailto:i
 nfo@craftort.at">info@craftort.at</a><br /> Mindestteilnehmerzahl: 5<br /> 
 <br /> Wo: „craftort“, Andreas Radlinger-Str. 1a, 2326 Lanzendorf b. Wien <
 br /> &gt;Öffentliche Verkehrsmittel: S-Bahn (vom Hbf Wien) bis Lanzendorf-
 Rannersdorf Bhf + Bus bis Gärtnerei oder Fußweg (ca 15 Min),  <br /> &gt;Mi
 t dem Auto: S1 Abfahrt Rannersdorf. Öffentliche Parkplätze vorhanden.</p><p
 >Ich freue mich auf kunterbunte Workshops mit euch, eure Sonja!<br /> <br /
 > Änderungen und Durchführung vorbehalten.</p><p><strong>Die nächsten Termi
 ne: </strong><br /> <strong>So, 18.12.22 Weihnachts-Kreativworkshop</strong
 ><br /> Details in der jeweiligen Facebook-Veranstaltung und auf der Websei
 te. <br /> Anmeldung per E-Mail erforderlich.</p>
CONTACT:www.craftort.at
X-EXTRAINFO:[preis='3200'][anmeldung='true']
DTSTAMP:20260424T212411
DTSTART:20221208T090000
DTEND:20221208T103000
SEQUENCE:0
TRANSP:OPAQUE
END:VEVENT
END:VCALENDAR