BEGIN:VCALENDAR
VERSION:2.0
PRODID:-//jEvents 2.0 for Joomla//EN
CALSCALE:GREGORIAN
METHOD:PUBLISH
BEGIN:VEVENT
UID:1cf1c2495035fcd5e008b8d55f038a84
CATEGORIES:1. Bezirk
CREATED:20221020T103857
SUMMARY:Das Baby kommt mit! Rundgang durch das Weltmuseum Wien
LOCATION:Weltmuseum Wien\, Heldenplatz 1010 Wien
DESCRIPTION:Führung durch das Weltmuseum Wien für Mamas und Papas mit ihren Babys. \nLi
 ebenswert wie eine Schmuckfeder war das ungeborene Baby für die Azteken. Au
 s Quetzalfedern ist auch der berühmt-berüchtigte altmexikanische Federkopfs
 chmuck – eines von vielen interessanten Objekten der Schausammlung des Welt
 museums Wien. Nehmen Sie ihr Baby mit und lernen sie einige der Highlights 
 der Museumssammlung kennen, während sie gleichzeitig Geschichten zu Fruchtb
 arkeit, Schöpfungsmythen und das Wunder des neuen Lebens erfahren. Während 
 Inspiration, Unterhaltung und Anregung nicht zu kurz kommen, wird auf die B
 edürfnisse der kleinsten Besucher*innen eingegangen – Schaukeln, Stillen un
 d Wickeln sind willkommen; Weinen, Quengeln und Kichern dürfen sein! Auch d
 as Baby der Kulturvermittlerin wird in der Trage der Führung beiwohnen.\nDa
 s Tragen in einer Tragehilfe wird empfohlen, Kinderwägen sind jedenfalls au
 ch erlaubt. Wickel- und Stillmöglichkeit sind gegeben.\n \n \nhttps://www.w
 eltmuseumwien.at/programm/event/das-baby-kommt-mit/1667516400-2/\n
X-ALT-DESC;FMTTYPE=text/html:<p><strong>Führung durch das Weltmuseum Wien für Mamas und Papas mit ihren 
 Babys. </strong></p><p>Liebenswert wie eine Schmuckfeder war das ungeborene
  Baby für die Azteken. Aus Quetzalfedern ist auch der berühmt-berüchtigte a
 ltmexikanische Federkopfschmuck – eines von vielen interessanten Objekten d
 er Schausammlung des Weltmuseums Wien. Nehmen Sie ihr Baby mit und lernen s
 ie einige der Highlights der Museumssammlung kennen, während sie gleichzeit
 ig Geschichten zu Fruchtbarkeit, Schöpfungsmythen und das Wunder des neuen 
 Lebens erfahren. Während Inspiration, Unterhaltung und Anregung nicht zu ku
 rz kommen, wird auf die Bedürfnisse der kleinsten Besucher*innen eingegange
 n – Schaukeln, Stillen und Wickeln sind willkommen; Weinen, Quengeln und Ki
 chern dürfen sein! Auch das Baby der Kulturvermittlerin wird in der Trage d
 er Führung beiwohnen.</p><p>Das Tragen in einer Tragehilfe wird empfohlen, 
 Kinderwägen sind jedenfalls auch erlaubt. Wickel- und Stillmöglichkeit sind
  gegeben.</p><p> </p><p> </p><p>https://www.weltmuseumwien.at/programm/even
 t/das-baby-kommt-mit/1667516400-2/</p>
CONTACT:kulturvermittlung@weltmuseumwien.at
X-EXTRAINFO:[preis='600'][anmeldung='false']
DTSTAMP:20260424T222330
DTSTART:20230216T093000
DTEND:20230216T103000
SEQUENCE:0
TRANSP:OPAQUE
END:VEVENT
END:VCALENDAR