BEGIN:VCALENDAR
VERSION:2.0
PRODID:-//jEvents 2.0 for Joomla//EN
CALSCALE:GREGORIAN
METHOD:PUBLISH
BEGIN:VEVENT
UID:71b8729f5cc763d369472ec87a1505e8
CATEGORIES:9. Bezirk
CREATED:20221118T165427
SUMMARY:BABYKINO - Mrs. Harris und ein Kleid von Dior (OmU)
LOCATION:Votiv Kino\, Währinger Str. 12\, 1090
DESCRIPTION:Jeden zweiten Dienstag laufen die wichtigsten Filme aus unserem Programm al
 s Babykino Vorstellungen in einem nicht gänzlich abgedunkeltem Saal mit etw
 as leiserem Ton.\nVor der Vorstellung kann man sich in unserem Café zu Kaff
 ee und Kuchen treffen, und während des Films stehen Wickeltische und ein Fl
 aschenwärmer zur Verfügung.\n \nProgramm 22.11.2022:\n11:00 MRS. HARRIS UND
  EIN KLEID VON DIOR (UK/HU 2022)\n11:30 CORSAGE (AT/DE/FR 2022)\n \nTickets
  und mehr Information zu den Filmen hier (https://www.votivkino.at/specials
 /babykino/#Specials). \n\n
X-ALT-DESC;FMTTYPE=text/html:<p>Jeden zweiten Dienstag laufen die wichtigsten Filme aus unserem Programm
  als Babykino Vorstellungen in einem nicht gänzlich abgedunkeltem Saal mit 
 etwas leiserem Ton.</p><p>Vor der Vorstellung kann man sich in unserem Café
  zu Kaffee und Kuchen treffen, und während des Films stehen Wickeltische un
 d ein Flaschenwärmer zur Verfügung.</p><p> </p><p><strong>Programm 22.11.20
 22:</strong></p><p><strong>11:00</strong> MRS. HARRIS UND EIN KLEID VON DIO
 R (UK/HU 2022)</p><p><strong>11:30</strong> CORSAGE (AT/DE/FR 2022)</p><p> 
 </p><p><em>Tickets und mehr Information zu den Filmen <a href="https://www.
 votivkino.at/specials/babykino/#Specials">hier</a>. <br /></em></p>
X-EXTRAINFO:[preis='750'][anmeldung='false']
DTSTAMP:20260424T195726
DTSTART:20221122T100000
DTEND:20221122T130000
SEQUENCE:0
TRANSP:OPAQUE
END:VEVENT
END:VCALENDAR