BEGIN:VCALENDAR
VERSION:2.0
PRODID:-//jEvents 2.0 for Joomla//EN
CALSCALE:GREGORIAN
METHOD:PUBLISH
BEGIN:VEVENT
UID:f708b2936641b4d2d4f350e21849f769
CATEGORIES:9. Bezirk
CREATED:20221121T192345
SUMMARY:BABYKINO - Bones and All (OmU)
LOCATION:Votiv Kino\, Währinger Straße 12\, 1090 Wien
DESCRIPTION:Jeden zweiten Dienstag laufen die wichtigsten Filme aus unserem Programm al
 s Babykino Vorstellungen in einem nicht gänzlich abgedunkeltem Saal mit etw
 as leiserem Ton. \nVor der Vorstellung kann man sich in unserem Café zu Kaf
 fee und Kuchen treffen, und während des Films stehen Wickeltische und ein F
 laschenwärmer zur Verfügung.\n\nProgramm 06.12.2022:\n11:00 BONES AND ALL (
 US/IT 2022)\n11:30 THE MENU (US 2022)\n\nTickets und mehr Information zu de
 n Filmen hier. \n
X-ALT-DESC;FMTTYPE=text/html:<p>Jeden zweiten Dienstag laufen die wichtigsten Filme aus unserem Programm
  als Babykino Vorstellungen in einem nicht gänzlich abgedunkeltem Saal mit 
 etwas leiserem Ton. <br />Vor der Vorstellung kann man sich in unserem Café
  zu Kaffee und Kuchen treffen, und während des Films stehen Wickeltische un
 d ein Flaschenwärmer zur Verfügung.<br /><br />Programm 06.12.2022:<br />11
 :00 BONES AND ALL (US/IT 2022)<br />11:30 THE MENU (US 2022)<br /><br />Tic
 kets und mehr Information zu den Filmen hier. </p>
X-EXTRAINFO:[preis='750'][anmeldung='false']
DTSTAMP:20260424T195731
DTSTART:20221206T100000
SEQUENCE:0
TRANSP:OPAQUE
END:VEVENT
END:VCALENDAR