BEGIN:VCALENDAR
VERSION:2.0
PRODID:-//jEvents 2.0 for Joomla//EN
CALSCALE:GREGORIAN
METHOD:PUBLISH
BEGIN:VEVENT
UID:164b77e80ae9d560f81473a7c7cda93b
CATEGORIES:2. Bezirk
CREATED:20221125T230950
SUMMARY:YOGA & BREAKFAST - Deine Mamaauszeit
LOCATION:Obere Donaustraße 15-17\, 1020 Wien
DESCRIPTION:Endlich mal wieder ins Fühlen kommen. Deinem Körper was Gutes tun. Vollkomm
 en abschalten.\nEndlich mal wieder in Ruhe essen. Mit freien Händen und all
 en Sinnen genießen.\nEndlich mal wieder Zeit nur für dich. Zusammen mit and
 eren wundervollen Frauen.\n______\n\nWas ist dabei?\n- 75 min Wohlfühlyoga\
 n- reichhaltiges vegetarisches Genussfrühstück inkl. Heißgetränk\n- gemütli
 ches Zusammensitzen\n______\nMein Name ist Sara. Ich bin Yogalehrerin mit F
 okus auf Prä- und Postnatalem Yoga, psychosoziale Beraterin und HypnoBirthi
 ng-Kursleiterin. Und selbst auch Mama von einem wundervollen Sohn. \nIch fr
 eu mich auf dich! \n\nPS: Keine Yogavorkenntnisse notwendig! Komm wie du bi
 st &lt;3\n
X-ALT-DESC;FMTTYPE=text/html:<p class="font_7">Endlich mal wieder ins Fühlen kommen. Deinem Körper was G
 utes tun. Vollkommen abschalten.</p><p class="font_7">Endlich mal wieder in
  Ruhe essen. Mit freien Händen und allen Sinnen genießen.</p><p class="font
 _7">Endlich mal wieder Zeit nur für dich. Zusammen mit anderen wundervollen
  Frauen.</p><p class="font_7">______</p><p class="font_7"><br />Was ist dab
 ei?</p><p class="font_7">- 75 min Wohlfühlyoga</p><p class="font_7">- reich
 haltiges vegetarisches Genussfrühstück inkl. Heißgetränk</p><p class="font_
 7">- gemütliches Zusammensitzen</p><p class="font_7">______</p><p class="fo
 nt8">Mein Name ist Sara. Ich bin Yogalehrerin mit Fokus auf Prä- und Postna
 talem Yoga, psychosoziale Beraterin und HypnoBirthing-Kursleiterin. Und sel
 bst auch Mama von einem wundervollen Sohn. </p><p class="font8">Ich freu mi
 ch auf dich! </p><p class="font_7"><br />PS: Keine Yogavorkenntnisse notwen
 dig! Komm wie du bist &lt;3</p>
CONTACT:https://www.saramitterholzer.com/yogaandbreakfast
X-EXTRAINFO:[preis='2900'][anmeldung='false']
DTSTAMP:20260425T000841
DTSTART:20221217T090000
DTEND:20221217T113000
SEQUENCE:0
TRANSP:OPAQUE
END:VEVENT
END:VCALENDAR