BEGIN:VCALENDAR
VERSION:2.0
PRODID:-//jEvents 2.0 for Joomla//EN
CALSCALE:GREGORIAN
METHOD:PUBLISH
BEGIN:VEVENT
UID:349bc0724629e9bb45772770be3b2a8c
CATEGORIES:7. Bezirk
CREATED:20221203T195504
SUMMARY:Vorbereitung auf Geburt und Elternschaft
LOCATION:Nanaya
DESCRIPTION:In unseren Wochenendkursen bieten wir unabhängige Informationen und Beratun
 g rund um die Geburt und die erste Zeit mit dem Baby an. \nDie kleine Grupp
 e hat den Vorteil, auf individuelle Lebenssituationen und persönliche Frage
 n gut eingehen zu können. Daher können schwangere Frauen alleine, mit dem/d
 er PartnerIn oder einer anderen Begleitperson teilnehmen, Erstschwangere ge
 nauso wie Eltern, die bereits Kinder haben, Paare mit einem geplanten Kaise
 rschnitt genauso wie Personen, die eine vaginale Geburt anstreben.\nWir emp
 fehlen die Teilnahme am Kurs ab der ca. 28. Schwangerschaftswoche, Ausnahme
 n können natürlich besprochen werden. \nSchwerpunkte:\n\n - Kontakt, Austau
 sch und Diskussion mit anderen Frauen und Paaren in einer ähnlichen Situati
 on\n - erste Informationen zum Wochenbett und zum Elternwerden (Bitte beach
 ten: Zur Vertiefung und zum Thema Babypflege gibt es einen eigenen Vortrag:
  "Wochenbett und Babypflege" (https://nanaya.at/wochenbett-und-babypflege)!
 )\n - Informationen über den Geburtsablauf, die Rolle/Unterstützung der Beg
 leitperson, mögliche Eingriffe, die Kaiserschnittgeburt\n - Körperliche Vor
 bereitung, z.B. Atem- und Entspannungsübungen, Bewegung und Körperarbeit, d
 as Ausprobieren möglicher Geburtspositionen, Massagen\n - Psychologische Vo
 rbereitung, z.B. Strategien zum Umgang mit Angst und Schmerz, Kontaktaufnah
 me zum Baby, Mutterrolle, Vaterrolle\n - Vortrag "Ein guter Stillbeginn": E
 r findet an einem eigenen Termin statt und wird von einer Stillberaterin ge
 halten, ist aber wichtiger Teil der Vorbereitung und daher für Teilnehmer*i
 nnen der Wochenendkurse kostenlos. Bitte hier  (https://nanaya.at/ein-guter
 -stillbeginn) gesondert und rechtzeitig dafür anmelden, automatische Zahlun
 gsaufforderung ignorieren!\n - Babytreffen nach der Geburt: Es ist ebenfall
 s Teil des Kurses und daher im Kursbeitrag inkludiert.
X-ALT-DESC;FMTTYPE=text/html:<p>In unseren Wochenendkursen bieten wir unabhängige Informationen und Bera
 tung rund um die Geburt und die erste Zeit mit dem Baby an. </p><p>Die klei
 ne Gruppe hat den Vorteil, auf individuelle Lebenssituationen und persönlic
 he Fragen gut eingehen zu können. Daher können schwangere Frauen alleine, m
 it dem/der PartnerIn oder einer anderen Begleitperson teilnehmen, Erstschwa
 ngere genauso wie Eltern, die bereits Kinder haben, Paare mit einem geplant
 en Kaiserschnitt genauso wie Personen, die eine vaginale Geburt anstreben.<
 /p><p>Wir empfehlen die Teilnahme am Kurs ab der ca. 28. Schwangerschaftswo
 che, Ausnahmen können natürlich besprochen werden. </p><p><strong>Schwerpun
 kte:</strong></p><ul><li>Kontakt, Austausch und Diskussion mit anderen Frau
 en und Paaren in einer ähnlichen Situation</li><li>erste Informationen zum 
 Wochenbett und zum Elternwerden (<em>Bitte beachten: Zur Vertiefung und zum
  Thema Babypflege gibt es einen eigenen Vortrag:<a href="https://nanaya.at/
 wochenbett-und-babypflege"> "Wochenbett und Babypflege"</a>!)</em></li><li>
 Informationen über den Geburtsablauf, die Rolle/Unterstützung der Begleitpe
 rson, mögliche Eingriffe, die Kaiserschnittgeburt</li><li>Körperliche Vorbe
 reitung, z.B. Atem- und Entspannungsübungen, Bewegung und Körperarbeit, das
  Ausprobieren möglicher Geburtspositionen, Massagen</li><li>Psychologische 
 Vorbereitung, z.B. Strategien zum Umgang mit Angst und Schmerz, Kontaktaufn
 ahme zum Baby, Mutterrolle, Vaterrolle</li><li>Vortrag "Ein guter Stillbegi
 nn": Er findet an einem eigenen Termin statt und wird von einer Stillberate
 rin gehalten, ist aber wichtiger Teil der Vorbereitung und daher für Teilne
 hmer*innen der Wochenendkurse kostenlos. Bitte <a href="https://nanaya.at/e
 in-guter-stillbeginn"><em>hier</em> </a> gesondert und rechtzeitig dafür an
 melden, automatische Zahlungsaufforderung ignorieren!</li><li>Babytreffen n
 ach der Geburt: Es ist ebenfalls Teil des Kurses und daher im Kursbeitrag i
 nkludiert.</li></ul>
CONTACT: rundumgeburt@nanaya.at
X-EXTRAINFO:[preis='9600'][anmeldung='true']
DTSTAMP:20260424T195720
DTSTART:20221216T163000
DTEND:20221217T150000
SEQUENCE:0
TRANSP:OPAQUE
END:VEVENT
END:VCALENDAR