BEGIN:VCALENDAR
VERSION:2.0
PRODID:-//jEvents 2.0 for Joomla//EN
CALSCALE:GREGORIAN
METHOD:PUBLISH
BEGIN:VEVENT
UID:83e9ee33261d2ee31394ba8a9c029e3c
CATEGORIES:6. Bezirk
CREATED:20221214T160027
SUMMARY:Bio-Beikost-Picknick
LOCATION:6.\, Sandwirtgasse 13/12
DESCRIPTION:<div id="cc-m-11964136997" class="j-module n j-header "><h3 id="cc-m-header
 -11964136997" class="">Bio-Beikost-Picknick</h3></div><div id="cc-m-1198096
 5197" class="j-module n j-textWithImage "><div><div id="cc-m-textwithimage-
 11980965197" class="cc-m-textwithimage-inline-rte" data-name="text" data-ac
 tion="text"><p>Der Beikoststart ist für Babys, aber natürlich auch Mamas un
 d Papas ein großer Meilenstein in der Entwicklung.</p><p>Und wie das so oft
  im Elterndasein ist beschäftigt sich auch hier das Mama- und Papahirn mit 
 unendlich vielen Fragen, wie</p><p>- „Wann ist mein Baby soweit neben (Mutt
 er-)milch auch anderes zu essen?“</p><p>- „Wie soll ich die Beikost einführ
 en?“</p><p>- „Brei?, Breifrei? Oder doch was anderes?“</p><p>- „Füttern vs.
  selbstbestimmtes Essen“</p><p>- „Wann muss oder darf ich Wasser und sonsti
 ge Flüssigkeiten einführen?“</p><p>- „Bei welchen Lebensmitteln ist Vorsich
 t geboten?“</p><p>All diese und noch viel mehr Fragen geistern in unseren K
 öpfen herum.</p></div></div><div class="cc-clear"> </div></div><div id="cc-
 m-11964143497" class="j-module n j-text "><p>Bei der Beikost gibt es viele 
 verschiedene Wege und besonders wichtig ist uns, dass ihr hier euren indivi
 duellen Weg findet. Und um diesen finden zu können bekommt ihr von uns, Cor
 ina und Martina, die wichtigsten Dinge, auf die geachtet werden können, mit
  auf euren Weg. Denn dann wird der Beikoststart ganz easy!</p><p> </p><p>Un
 d da wir der festen Überzeugung sind, dass Wissen viel leichter vermittelt 
 wird, wenn man dabei entspannt, mit Spaß und vor allem auch praktisch an di
 e Sacher heran geht haben wir unseren Workshop in den Rahmen eines Picknick
 s gepackt.</p><p> </p><p>Essen und Lernen mit allen Sinnen ist nicht nur fü
 r uns, sondern auch für unsere Babys eine wichtige Unterstützung.</p><p> </
 p><p>Deswegen sind alle Speisen und Getränke aus biologischem und ökologisc
 hem Anbau und für Babys ab Beikostreife geeignet zubereitet.</p><p>Um die V
 ielfalt an Lebensmittel für euch bereitstellen zu können wurde dieser Works
 hop von Adamah BioHof gesponsert!</p></div><div id="cc-m-11964137197" class
 ="j-module n j-text "><p><strong>Wann:</strong> folgende Termine stehen zur
  Auswahl <strong><br /></strong></p><p>Sa., 10. Dezember 2022 - AUSGEBUCHT!
 !</p><p>So., 26. Februar 2022</p><p><strong>Uhrzeit:</strong> 10.30 - 13.00
  Uhr<strong><br /></strong></p><p><strong>Kosten:</strong> € 59,- pro 1 Elt
 ernteil mit Kind, Familienpreis € 99,-</p><p><strong>Ort:</strong> Biolino 
 Institut</p><p>inkl. Vortrag mit fachlicher Beratung, Handout, Lebensmittel
  und selbstgemachte Speisen in Bio-Qalität, Rezepten, Büchertisch zum Stöbe
 rn, Kaffee für die Eltern, in kleiner Runde!</p><p> </p><p>mit Expertin Cor
 ina Zahola</p><p>und Martina Novak</p></div>
X-ALT-DESC;FMTTYPE=text/html:<div id="cc-m-11964136997" class="j-module n j-header "><h3 id="cc-m-header
 -11964136997" class="">Bio-Beikost-Picknick</h3></div><div id="cc-m-1198096
 5197" class="j-module n j-textWithImage "><div><div id="cc-m-textwithimage-
 11980965197" class="cc-m-textwithimage-inline-rte" data-name="text" data-ac
 tion="https://www.babymamas.at/text"><p>Der Beikoststart ist für Babys, abe
 r natürlich auch Mamas und Papas ein großer Meilenstein in der Entwicklung.
 </p><p>Und wie das so oft im Elterndasein ist beschäftigt sich auch hier da
 s Mama- und Papahirn mit unendlich vielen Fragen, wie</p><p>- „Wann ist mei
 n Baby soweit neben (Mutter-)milch auch anderes zu essen?“</p><p>- „Wie sol
 l ich die Beikost einführen?“</p><p>- „Brei?, Breifrei? Oder doch was ander
 es?“</p><p>- „Füttern vs. selbstbestimmtes Essen“</p><p>- „Wann muss oder d
 arf ich Wasser und sonstige Flüssigkeiten einführen?“</p><p>- „Bei welchen 
 Lebensmitteln ist Vorsicht geboten?“</p><p>All diese und noch viel mehr Fra
 gen geistern in unseren Köpfen herum.</p></div></div><div class="cc-clear">
  </div></div><div id="cc-m-11964143497" class="j-module n j-text "><p>Bei d
 er Beikost gibt es viele verschiedene Wege und besonders wichtig ist uns, d
 ass ihr hier euren individuellen Weg findet. Und um diesen finden zu können
  bekommt ihr von uns, Corina und Martina, die wichtigsten Dinge, auf die ge
 achtet werden können, mit auf euren Weg. Denn dann wird der Beikoststart ga
 nz easy!</p><p> </p><p>Und da wir der festen Überzeugung sind, dass Wissen 
 viel leichter vermittelt wird, wenn man dabei entspannt, mit Spaß und vor a
 llem auch praktisch an die Sacher heran geht haben wir unseren Workshop in 
 den Rahmen eines Picknicks gepackt.</p><p> </p><p>Essen und Lernen mit alle
 n Sinnen ist nicht nur für uns, sondern auch für unsere Babys eine wichtige
  Unterstützung.</p><p> </p><p>Deswegen sind alle Speisen und Getränke aus b
 iologischem und ökologischem Anbau und für Babys ab Beikostreife geeignet z
 ubereitet.</p><p>Um die Vielfalt an Lebensmittel für euch bereitstellen zu 
 können wurde dieser Workshop von Adamah BioHof gesponsert!</p></div><div id
 ="cc-m-11964137197" class="j-module n j-text "><p><strong>Wann:</strong> fo
 lgende Termine stehen zur Auswahl <strong><br /></strong></p><p>Sa., 10. De
 zember 2022 - AUSGEBUCHT!!</p><p>So., 26. Februar 2022</p><p><strong>Uhrzei
 t:</strong> 10.30 - 13.00 Uhr<strong><br /></strong></p><p><strong>Kosten:<
 /strong> € 59,- pro 1 Elternteil mit Kind, Familienpreis € 99,-</p><p><stro
 ng>Ort:</strong> Biolino Institut</p><p>inkl. Vortrag mit fachlicher Beratu
 ng, Handout, Lebensmittel und selbstgemachte Speisen in Bio-Qalität, Rezept
 en, Büchertisch zum Stöbern, Kaffee für die Eltern, in kleiner Runde!</p><p
 > </p><p>mit Expertin Corina Zahola</p><p>und Martina Novak</p></div>
CONTACT:martina.novak@biolino.at, 067762892970
X-EXTRAINFO:[preis='5900'][anmeldung='true']
DTSTAMP:20260424T184825
DTSTART:20230226T093000
DTEND:20230226T120000
SEQUENCE:0
TRANSP:OPAQUE
END:VEVENT
END:VCALENDAR