BEGIN:VCALENDAR
VERSION:2.0
PRODID:-//jEvents 2.0 for Joomla//EN
CALSCALE:GREGORIAN
METHOD:PUBLISH
BEGIN:VEVENT
UID:25cacddfacddf3f5584406306d21a387
CATEGORIES:6. Bezirk
CREATED:20221214T160233
SUMMARY:Babyschlaf-Workshop
LOCATION:6.\, Sandwirtgasse 13/12
DESCRIPTION:Babyschlaf-Workshop "Schlaf Kindlein schlaf ... oder doch nicht?"Babyschlaf
  – so gut wie kein anderes Thema bewegt Eltern so sehr, wie der Schlaf des 
 Babys.\n \nIm Babyschlaf-Treff nimmt sich Expertin Corina, 1001kindernacht®
  Schlafberaterin, Zeit mit dir und den anderen ausführlich über das Thema z
 u sprechen und die wichtigsten Punkte in der kindlichen Schlafentwicklung z
 u erklären.\n Im Workshop sprechen wir über:\n- den menschliche Schlaf\n- d
 ie kindliche Schlafentwicklung\n- die kindlichen Bedürfnisse\n- „Kinder bra
 uchen uns auch nachts – Warum Schlaftrainings nicht empfehlenswert sind“\n-
  die Eltern-Kind-Bindung\n- Schlafen und Stillen\n- SIDS – Sudden Infant De
 ath Syndrom\n- die Rolle des Papas\nDu kannst gerne mit deinem Kind kommen.
  Dafür bereiten wir eine Spielumgebung mit Spiel- und Beschäftigungsmateria
 l vor.\nDu bekommst ein Handout mit vielen weiteren Informationen zum Weite
 r- und Nachlesen.\nWann: Do., 26. Jänner 2022\nUhrzeit: von 15.00 bis 17.00
  Uhr\nKosten: € 49,- pro Person, € 69,- pro Paar\ninkl. Vortrag, Getränke, 
 Handout\nExpertin Corina Zahola\nmit Martina Novak\nAnmeldung und Infos hie
 r:\nhttps://www.biolino.at/kurse-und-workshops-1/workshops-mit-corina-zahol
 a/\n
X-ALT-DESC;FMTTYPE=text/html:<div id="cc-m-11967979497" class="j-module n j-header "><h3 id="cc-m-header
 -11967979497" class="">Babyschlaf-Workshop "Schlaf Kindlein schlaf ... oder
  doch nicht?"</h3></div><div id="cc-m-11980966697" class="j-module n j-text
 WithImage "><div><div id="cc-m-textwithimage-11980966697" class="cc-m-textw
 ithimage-inline-rte" data-name="text" data-action="https://www.babymamas.at
 /text"><p>Babyschlaf – so gut wie kein anderes Thema bewegt Eltern so sehr,
  wie der Schlaf des Babys.</p><p> </p><p>Im Babyschlaf-Treff nimmt sich <st
 rong>Expertin Corina</strong>, 1001kindernacht® Schlafberaterin, Zeit mit d
 ir und den anderen ausführlich über das Thema zu sprechen und die wichtigst
 en Punkte in der kindlichen Schlafentwicklung zu erklären.</p></div></div><
 div class="cc-clear"> </div></div><div id="cc-m-12172520797" class="j-modul
 e n j-text "><p>Im Workshop sprechen wir über:</p><p>- den menschliche Schl
 af</p><p>- die kindliche Schlafentwicklung</p><p>- die kindlichen Bedürfnis
 se</p><p>- „Kinder brauchen uns auch nachts – Warum Schlaftrainings nicht e
 mpfehlenswert sind“</p><p>- die Eltern-Kind-Bindung</p><p>- Schlafen und St
 illen</p><p>- SIDS – Sudden Infant Death Syndrom</p><p>- die Rolle des Papa
 s</p></div><div id="cc-m-12172521397" class="j-module n j-text "><p>Du kann
 st gerne mit deinem Kind kommen. Dafür bereiten wir eine Spielumgebung mit 
 Spiel- und Beschäftigungsmaterial vor.</p><p>Du bekommst ein Handout mit vi
 elen weiteren Informationen zum Weiter- und Nachlesen.</p></div><div id="cc
 -m-11964136597" class="j-module n j-text "><p><strong>Wann:</strong> Do., 2
 6. Jänner 2022</p><p><strong>Uhrzeit:</strong> von 15.00 bis 17.00 Uhr</p><
 p><strong>Kosten:</strong> € 49,- pro Person, € 69,- pro Paar</p><p>inkl. V
 ortrag, Getränke, Handout</p><p><strong>Expertin</strong> Corina Zahola</p>
 <p>mit Martina Novak</p><p>Anmeldung und Infos hier:</p><p><a href="https:/
 /www.biolino.at/kurse-und-workshops-1/workshops-mit-corina-zahola/">https:/
 /www.biolino.at/kurse-und-workshops-1/workshops-mit-corina-zahola/</a></p><
 /div>
CONTACT:martina.novak@biolino.at, 067762892970
X-EXTRAINFO:[preis='4900'][anmeldung='true']
DTSTAMP:20260424T234914
DTSTART:20230126T140000
DTEND:20230126T150000
SEQUENCE:0
TRANSP:OPAQUE
END:VEVENT
END:VCALENDAR