BEGIN:VCALENDAR
VERSION:2.0
PRODID:-//jEvents 2.0 for Joomla//EN
CALSCALE:GREGORIAN
METHOD:PUBLISH
BEGIN:VEVENT
UID:92b0055246867657500377140a691b00
CATEGORIES:23. Bezirk
CREATED:20221221T195024
SUMMARY:fitdankbaby After Christmas Workout
LOCATION:Apotheke Rodaun\, Ketzergasse 368\, 1230 Wien
DESCRIPTION:Nachdem wir die Weihnachtsfeiertage gemütlich mit unseren Liebsten verbrach
 t haben, ist es an der Zeit wieder sportlich aktiv zu werden! Wir treffen u
 ns daher zum After Christmas Workout, um das eine oder andere Weihnachtskek
 s wieder abzutrainieren. \nAuf die Mamas wartet ein Ganzkörperworkout - nac
 h einem Aerobic-Aufwärm-Teil mit einfachen Schrittfolgen gibt's Kräftigungs
 übungen für Beine, Po, Bauch, Arme und Rücken. Für die Babys bauen wir zwis
 chendurch verschiedene Kinderlieder und -spiele ein, außerdem habe ich jede
  Menge Spielsachen mit. Größere Geschwisterkinder sind natürlich auch willk
 ommen!\nJETZT GLEICH EINEN PLATZ SICHERN &gt;&gt; claudia.klinger@fitdankba
 by.at (mailto:claudia.klinger@fitdankbaby.at) oder auf www.fitdankbaby.at/c
 laudia.klinger (http://www.fitdankbaby.at/claudia.klinger) \n \n
X-ALT-DESC;FMTTYPE=text/html:<p>Nachdem wir die Weihnachtsfeiertage gemütlich mit unseren Liebsten verbr
 acht haben, ist es an der Zeit wieder sportlich aktiv zu werden! Wir treffe
 n uns daher zum After Christmas Workout, um das eine oder andere Weihnachts
 keks wieder abzutrainieren. </p><p>Auf die Mamas wartet ein Ganzkörperworko
 ut - nach einem Aerobic-Aufwärm-Teil mit einfachen Schrittfolgen gibt's Krä
 ftigungsübungen für Beine, Po, Bauch, Arme und Rücken. Für die Babys bauen 
 wir zwischendurch verschiedene Kinderlieder und -spiele ein, außerdem habe 
 ich jede Menge Spielsachen mit. Größere Geschwisterkinder sind natürlich au
 ch willkommen!</p><p>JETZT GLEICH EINEN PLATZ SICHERN &gt;&gt; <a href="mai
 lto:claudia.klinger@fitdankbaby.at">claudia.klinger@fitdankbaby.at</a> oder
  auf <a href="http://www.fitdankbaby.at/claudia.klinger">www.fitdankbaby.at
 /claudia.klinger</a> </p><p> </p>
CONTACT:Claudia Klinger - claudia.klinger@fitdankbaby.at
X-EXTRAINFO:[preis='1000'][anmeldung='true']
DTSTAMP:20260425T023917
DTSTART:20221228T082000
DTEND:20221228T093500
SEQUENCE:0
TRANSP:OPAQUE
END:VEVENT
END:VCALENDAR