BEGIN:VCALENDAR
VERSION:2.0
PRODID:-//jEvents 2.0 for Joomla//EN
CALSCALE:GREGORIAN
METHOD:PUBLISH
BEGIN:VEVENT
UID:2118e4b672dc17ae7fe70372246ba747
CATEGORIES:14. Bezirk
CREATED:20230413T142925
SUMMARY:MUTTERTAGS-SHOOTING 
LOCATION:Tiefendorfergasse 8/19\, 1140 Wien
DESCRIPTION:~MUTTERTAG-SHOOTING~\n\nWenn du deiner Mama oder Oma ein Shooting schenken 
 möchtest, erstelle ich dir dazu gerne einen Gutschein\nInfos:\n* Location: 
 Studio Tiefendorfergasse 8/19, 1140 Wien\n* Dauer: je nach Laune des/der Jü
 ngsten, max. 30min\n* Personenanzahl: 2-3\n* kein Newborn, Kind ab 2 Monate
 \n* Kleidung: Come as you are (kein Kleidungswechsel, da wir in der kurzen 
 Zeit genug Fotos machen wollen)\n* Preis: 30,-/Foto in digital (keine Minde
 stanzahl erforderlich)\n*Anmeldung: 0650 26 49 654 oder linkemarleen@gmail.
 com (mailto:linkemarleen@gmail.com)\nIch freue mich auf dich und deine Fami
 lie :-)\n------------------------------------------------------------------
 -\nwww.marleenlinkefotografie.at (http://www.marleenlinkefotografie.at)\n\n
 Infos &amp; Buchung per +43650 26 49 654\nlinkemarleen@gmail.com (mailto:li
 nkemarleen@gmail.com)\n
X-ALT-DESC;FMTTYPE=text/html:<p><strong>~</strong><strong>MUTTERTAG-SHOOTING~</strong><strong><br /><br 
 /></strong>Wenn du deiner Mama oder Oma ein Shooting schenken möchtest, ers
 telle ich dir dazu gerne einen Gutschein</p><p><strong>Infos:</strong></p><
 p>* Location: Studio Tiefendorfergasse 8/19, 1140 Wien</p><p>* Dauer: je na
 ch Laune des/der Jüngsten, max. 30min</p><p>* Personenanzahl: 2-3</p><p>* k
 ein Newborn, Kind ab 2 Monate</p><p>* Kleidung: Come as you are (kein Kleid
 ungswechsel, da wir in der kurzen Zeit genug Fotos machen wollen)</p><p>* P
 reis: 30,-/Foto in digital (keine Mindestanzahl erforderlich)</p><p>*Anmeld
 ung: 0650 26 49 654 oder <a href="mailto:linkemarleen@gmail.com">linkemarle
 en@gmail.com</a></p><p>Ich freue mich auf dich und deine Familie :-)</p><p>
 -------------------------------------------------------------------<br /><a
  href="http://www.marleenlinkefotografie.at">www.marleenlinkefotografie.at<
 /a><br /><br />Infos &amp; Buchung per +43650 26 49 654<br /><a href="mailt
 o:linkemarleen@gmail.com">linkemarleen@gmail.com</a></p>
CONTACT:Marleen Linke Fotografie / 0650 26 49 654
X-EXTRAINFO:[preis='3000'][anmeldung='false']
DTSTAMP:20260424T202734
DTSTART:20230523T070000
DTEND:20230523T110000
SEQUENCE:0
TRANSP:OPAQUE
END:VEVENT
END:VCALENDAR