BEGIN:VCALENDAR
VERSION:2.0
PRODID:-//jEvents 2.0 for Joomla//EN
CALSCALE:GREGORIAN
METHOD:PUBLISH
BEGIN:VEVENT
UID:c62f7f50dcfc3e356d594cdc41e7aed7
CATEGORIES:18. Bezirk
CREATED:20230703T130318
SUMMARY:Babyklangwelt zum Kennenlernen am Montag
LOCATION:Spielringel\, Mollgasse 11-13
DESCRIPTION:für Babys (3-10 Monate) mit BegleitungEinzeltermin zum Kennenlernen\nStart:
   24.07. oder 31.07.\nMit: Susanne (https://spielringel.at/angebote/das-tea
 m/susanne)\nKurstag:  Montag 12:00-12:45\nTermine:  24.07. oder 31.07.\nKos
 ten:  €16,- (Einzeltermin)\nBabys lieben Klänge, Geräusche, Musik und Gesan
 g. Gemeinsam schaffen wir akustische und musikalische Erlebniswelten, in di
 e sich die Babys nach Möglichkeit einbringen können und erweitern dabei auc
 h Kompetenz und Repertoire das Kind im Alltag spielerisch zu fördern.\nAn d
 iesem Einzeltermin kannst du dir ansehen, wie eine Einheit der Babyklangwel
 t ablaufen kann. Bitte gib an, ob du am 24.07.oder am 31.07 teilnehmen will
 st! Bei gleichzeitiger Buchung von drei oder mehr Terminen unserer Sommeran
 gebote gibt es 5% Rabatt!\n \n \n
X-ALT-DESC;FMTTYPE=text/html:<h4>für Babys (3-10 Monate) mit Begleitung</h4><div class="textpic-item tex
 tpic-text"><p>Einzeltermin zum Kennenlernen</p><p><span class="text-primary
  font-weight-bold">Start: </span> 24.07. oder 31.07.</p><p><span class="tex
 t-primary font-weight-bold">Mit: </span><a href="https://spielringel.at/ang
 ebote/das-team/susanne">Susanne</a></p><p><span class="text-primary font-we
 ight-bold">Kurstag: </span> Montag 12:00-12:45</p><p><span class="text-prim
 ary font-weight-bold">Termine: </span> 24.07. oder 31.07.</p><p><span class
 ="text-primary font-weight-bold">Kosten: </span> €16,- (Einzeltermin)</p><p
 >Babys lieben Klänge, Geräusche, Musik und Gesang. Gemeinsam schaffen wir a
 kustische und musikalische Erlebniswelten, in die sich die Babys nach Mögli
 chkeit einbringen können und erweitern dabei auch Kompetenz und Repertoire 
 das Kind im Alltag spielerisch zu fördern.</p><p>An diesem Einzeltermin kan
 nst du dir ansehen, wie eine Einheit der Babyklangwelt ablaufen kann. Bitte
  gib an, ob du am 24.07.oder am 31.07 teilnehmen willst! Bei gleichzeitiger
  Buchung von drei oder mehr Terminen unserer Sommerangebote gibt es 5% Raba
 tt!</p></div><p>&nbsp;</p><p>&nbsp;</p>
CONTACT:www.spielringel.at
X-EXTRAINFO:[preis='1600'][anmeldung='true']
DTSTAMP:20260425T011520
DTSTART:20230724T100000
DTEND:20230724T104500
SEQUENCE:0
TRANSP:OPAQUE
END:VEVENT
END:VCALENDAR