BEGIN:VCALENDAR
VERSION:2.0
PRODID:-//jEvents 2.0 for Joomla//EN
CALSCALE:GREGORIAN
METHOD:PUBLISH
BEGIN:VEVENT
UID:bdf5fb771ed1776d4e5bd8abe393ee7c
CATEGORIES:12. Bezirk
CREATED:20230909T144213
SUMMARY:Erste Hilfe Kurs - Kinder Notfälle
LOCATION:Wolkenspiel -RAUM- ; Krichbaumgasse 35/1
DESCRIPTION:Erste Hilfe Kurs Themenschwerpunkt Baby &amp; Kleinkinder\nKindernotfälle\n
 \n*Anatomische Unterschiede\n*Prävention\n*Verlegung der Atemwege (Verschlu
 cken)\n*Ertrinken\n*Vergiftung\n*Sonnestich/Hitzeschlag\n*Unterkühlung/ Erf
 rierung\n*Verbrennung/ Verbrühung\n*Starke Blutung (Übungen)\n*Wunden\n*Ins
 ektenstiche/Tierbisse\n*Verätzung\n*Verletzung von Knochen und Gelenken\n*B
 ewusstlosigkeit (Übungen)\n*Atem- Kreislaufstillstand, Reanimation (Übungen
 )\nDein Baby oder Kind ist herzlich willkommen! Ausreichend Platz zum Spiel
 en und zurückziehen ist vorhanden.\nWir freuen uns auf euch,\nHelena, Dipl.
  Kinderintensivkrankenpflegerin\nSonja, Rettungssanitäterin\n \n \n \n
X-ALT-DESC;FMTTYPE=text/html:<p>Erste Hilfe Kurs Themenschwerpunkt Baby &amp; Kleinkinder</p><p>Kinderno
 tfälle</p><p><br />*Anatomische Unterschiede<br />*Prävention<br />*Verlegu
 ng der Atemwege (Verschlucken)<br />*Ertrinken<br />*Vergiftung<br />*Sonne
 stich/Hitzeschlag<br />*Unterkühlung/ Erfrierung<br />*Verbrennung/ Verbrüh
 ung<br />*Starke Blutung (Übungen)<br />*Wunden<br />*Insektenstiche/Tierbi
 sse<br />*Verätzung<br />*Verletzung von Knochen und Gelenken<br />*Bewusst
 losigkeit (Übungen)<br />*Atem- Kreislaufstillstand, Reanimation (Übungen)<
 /p><p>Dein Baby oder Kind ist herzlich willkommen! Ausreichend Platz zum Sp
 ielen und zurückziehen ist vorhanden.</p><p>Wir freuen uns auf euch,<br />H
 elena, Dipl. Kinderintensivkrankenpflegerin<br />Sonja, Rettungssanitäterin
 </p><p>&nbsp;</p><p>&nbsp;</p><p>&nbsp;</p>
CONTACT:helena@babykreis.at
X-EXTRAINFO:[preis='10000'][anmeldung='false']
DTSTAMP:20260424T173957
DTSTART:20231125T080000
DTEND:20231125T133000
SEQUENCE:0
TRANSP:OPAQUE
END:VEVENT
END:VCALENDAR