BEGIN:VCALENDAR
VERSION:2.0
PRODID:-//jEvents 2.0 for Joomla//EN
CALSCALE:GREGORIAN
METHOD:PUBLISH
BEGIN:VEVENT
UID:83c130934cbb0193c63e2041486fff4b
CATEGORIES:8. Bezirk
CREATED:19700101T010000
SUMMARY:Schwangerschafts Yoga (geburtsvorbereitend)
LOCATION:Lederergasse 21\, 1080 Wien
DESCRIPTION:<h3 id="cc-m-header-14190400989" class="headline cc-m-header-inline-rte" st
 yle="overflow-wrap: break-word; font-family: 'Roboto Condensed', sans-serif
 , google; font-weight: normal; margin: 0px; font-size: 2.8rem; line-height:
  1.25; color: #6ab889; text-transform: uppercase; outline: currentcolor; mi
 n-height: 35px;" data-action="header" data-name="header">SCHWANGERSCHAFTSYO
 GA</h3><p><strong style="font-size: 16px; caret-color: #000000; color: #000
 000; font-family: 'Roboto Condensed', sans-serif, google;">Kursstart&nbsp;<
 span style="color: #6bb88a;">21. November</span></strong><span style="font-
 size: 16px; caret-color: #000000; color: #000000; font-family: 'Roboto Cond
 ensed', sans-serif, google;">&nbsp;- sichere dir gleich deinen Platz (info@
 treehut-yoga.com oder +43 664 1305017)</span></p><p>&nbsp;</p><p style="fon
 t-size: 16px; margin: 0px; caret-color: #000000; color: #000000; font-famil
 y: 'Roboto Condensed', sans-serif, google;">Du erwartest ein Baby und möcht
 est diese schöne Zeit in vollen Zügen genießen?</p><p style="text-align: ju
 stify;">Beim Yoga kannst du deine Körperwahrnehmung intensivieren und dich 
 auf diese besondere Situation voll und ganz einlassen. Nimm dir Zeit für di
 ch und dein Baby und fühl dich in deinem Körper so richtig wohl.</p><p styl
 e="font-size: 16px; margin: 0px; caret-color: #000000; color: #000000; font
 -family: 'Roboto Condensed', sans-serif, google;"><a href="/app/s8cb3559982
 fa1961/p55f0f7ccb753f73f/" style="cursor: pointer; color: #6ab889; transiti
 on: color 0.3s ease-in;" title="Schwangerschaftsyoga">Mehr Infos Schwangers
 chaftsyoga</a></p><p style="font-size: 16px; margin: 0px; caret-color: #000
 000; color: #000000; font-family: 'Roboto Condensed', sans-serif, google;">
 &nbsp;</p><p style="font-size: 16px; margin: 0px; caret-color: #000000; col
 or: #000000; font-family: 'Roboto Condensed', sans-serif, google;"><span st
 yle="font-weight: 700 !important;">Termine:</span>&nbsp;Dienstags 21.11./28
 .11./5.12./12.12.</p><p style="font-size: 16px; margin: 0px; caret-color: #
 000000; color: #000000; font-family: 'Roboto Condensed', sans-serif, google
 ;"><span style="font-weight: 700 !important;">Zeit:</span>&nbsp;9:00 - 10:1
 5</p><p style="font-size: 16px; margin: 0px; caret-color: #000000; color: #
 000000; font-family: 'Roboto Condensed', sans-serif, google;">&nbsp;</p><p 
 style="font-size: 16px; margin: 0px; caret-color: #000000; color: #000000; 
 font-family: 'Roboto Condensed', sans-serif, google;"><span style="font-wei
 ght: 700 !important;">Wo:</span>&nbsp;@ Yogaria, Lederergasse 21, 1080 Wien
 </p><p style="font-size: 16px; margin: 0px; caret-color: #000000; color: #0
 00000; font-family: 'Roboto Condensed', sans-serif, google;"><span style="f
 ont-weight: 700 !important;">Preis:</span>&nbsp;€ 85 (4 Termine)</p>
X-ALT-DESC;FMTTYPE=text/html:<h3 id="cc-m-header-14190400989" class="headline cc-m-header-inline-rte" st
 yle="overflow-wrap: break-word; font-family: 'Roboto Condensed', sans-serif
 , google; font-weight: normal; margin: 0px; font-size: 2.8rem; line-height:
  1.25; color: #6ab889; text-transform: uppercase; outline: currentcolor; mi
 n-height: 35px;" data-action="https://www.babymamas.at/header" data-name="h
 eader">SCHWANGERSCHAFTSYOGA</h3><p><strong style="font-size: 16px; caret-co
 lor: #000000; color: #000000; font-family: 'Roboto Condensed', sans-serif, 
 google;">Kursstart&nbsp;<span style="color: #6bb88a;">21. November</span></
 strong><span style="font-size: 16px; caret-color: #000000; color: #000000; 
 font-family: 'Roboto Condensed', sans-serif, google;">&nbsp;- sichere dir g
 leich deinen Platz (info@treehut-yoga.com oder +43 664 1305017)</span></p><
 p>&nbsp;</p><p style="font-size: 16px; margin: 0px; caret-color: #000000; c
 olor: #000000; font-family: 'Roboto Condensed', sans-serif, google;">Du erw
 artest ein Baby und möchtest diese schöne Zeit in vollen Zügen genießen?</p
 ><p style="text-align: justify;">Beim Yoga kannst du deine Körperwahrnehmun
 g intensivieren und dich auf diese besondere Situation voll und ganz einlas
 sen. Nimm dir Zeit für dich und dein Baby und fühl dich in deinem Körper so
  richtig wohl.</p><p style="font-size: 16px; margin: 0px; caret-color: #000
 000; color: #000000; font-family: 'Roboto Condensed', sans-serif, google;">
 <a href="https://www.babymamas.at/app/s8cb3559982fa1961/p55f0f7ccb753f73f/"
  style="cursor: pointer; color: #6ab889; transition: color 0.3s ease-in;" t
 itle="Schwangerschaftsyoga">Mehr Infos Schwangerschaftsyoga</a></p><p style
 ="font-size: 16px; margin: 0px; caret-color: #000000; color: #000000; font-
 family: 'Roboto Condensed', sans-serif, google;">&nbsp;</p><p style="font-s
 ize: 16px; margin: 0px; caret-color: #000000; color: #000000; font-family: 
 'Roboto Condensed', sans-serif, google;"><span style="font-weight: 700 !imp
 ortant;">Termine:</span>&nbsp;Dienstags 21.11./28.11./5.12./12.12.</p><p st
 yle="font-size: 16px; margin: 0px; caret-color: #000000; color: #000000; fo
 nt-family: 'Roboto Condensed', sans-serif, google;"><span style="font-weigh
 t: 700 !important;">Zeit:</span>&nbsp;9:00 - 10:15</p><p style="font-size: 
 16px; margin: 0px; caret-color: #000000; color: #000000; font-family: 'Robo
 to Condensed', sans-serif, google;">&nbsp;</p><p style="font-size: 16px; ma
 rgin: 0px; caret-color: #000000; color: #000000; font-family: 'Roboto Conde
 nsed', sans-serif, google;"><span style="font-weight: 700 !important;">Wo:<
 /span>&nbsp;@ Yogaria, Lederergasse 21, 1080 Wien</p><p style="font-size: 1
 6px; margin: 0px; caret-color: #000000; color: #000000; font-family: 'Robot
 o Condensed', sans-serif, google;"><span style="font-weight: 700 !important
 ;">Preis:</span>&nbsp;€ 85 (4 Termine)</p>
CONTACT:Sissi Baumgartner +43 664 1305017
X-EXTRAINFO:[preis='000'][anmeldung='true']
DTSTAMP:20260424T190832
DTSTART:20231121T080000
DTEND:20231121T091500
SEQUENCE:0
RRULE:FREQ=WEEKLY;COUNT=4;INTERVAL=1;BYDAY=TU
TRANSP:OPAQUE
END:VEVENT
END:VCALENDAR