BEGIN:VCALENDAR
VERSION:2.0
PRODID:-//jEvents 2.0 for Joomla//EN
CALSCALE:GREGORIAN
METHOD:PUBLISH
BEGIN:VEVENT
UID:534de37b7160a427d4fb9b60f23d8889
CATEGORIES:2. Bezirk
CREATED:20231220T131922
SUMMARY:Wissenschaftsstunde 4-7J
LOCATION:Kind&amp;Kegel Eltern-Kind-Zentrum 1020\, Praterstraße 14/8
DESCRIPTION:<h2>Wissenschaftsstunde</h2><p>&nbsp;</p><h3>Für Kinder von 4 bis 7 Jahren<
 /h3><p>&nbsp;</p><p>Kinder sind von Natur aus neugierig. In den Wissenschaf
 tsstunden behandeln wir einfache Konzepte aus dem Bereich der Chemiewissens
 chaften, und visualisieren diese in einfachen Experimenten.</p><p><span cla
 ss="fett">Termine:</span> Montag, <br /> 15.04<strong>.</strong>, 13.05<str
 ong>.</strong>, <strong>17.06.24</strong>, jeweils von 16<span class="klein
 hoch">30</span> - 17<span class="kleinhoch">45</span> Uhr<br /> <span class
 ="fett">Kosten: </span> 3 Einheiten € 58,- | 1 Einheit € 20,-<br /> Anmeldu
 ng erforderlich!</p><p>&nbsp;</p>
CONTACT:01 503 71 88, info@kind-und-kegel.at, www.kind-und-kegel.at
X-EXTRAINFO:[preis='2000'][anmeldung='true']
DTSTAMP:20260424T024316
DTSTART:20240617T143000
DTEND:20240617T154500
SEQUENCE:0
TRANSP:OPAQUE
END:VEVENT
END:VCALENDAR