BEGIN:VCALENDAR
VERSION:2.0
PRODID:-//jEvents 2.0 for Joomla//EN
CALSCALE:GREGORIAN
METHOD:PUBLISH
BEGIN:VEVENT
UID:e516429758df29fcfce1b059354dadbb
CATEGORIES:2. Bezirk
CREATED:20231220T134306
SUMMARY:Erste Hilfe bei Kindernotfällen Vortrag
LOCATION:Kind&amp;Kegel Eltern-Kind-Zentrum 1020\, Praterstraße 14/8
DESCRIPTION:Erste Hilfe bei Kindernotfällen [Vortrag] \nWie reanimiere ich richtig, was
  tun bei Vergiftung, Verbrennung, Verschlucken, u.v.m.\nTermine:\n Mittwoch
 , 06.03.24 von 09:30 - 11:30\nMontag, 22.04.24,von 18:00-20:00\nMontag 26.8
 .24 von 18:00 - 20:00\n\n Kosten:  1 Einheit € 40,- inkl. Handout\n Anmeldu
 ng erforderlich!\n \n
X-ALT-DESC;FMTTYPE=text/html:<h2>Erste Hilfe bei Kindernotfällen [Vortrag]</h2><p>&nbsp;</p><p>Wie reani
 miere ich richtig, was tun bei Vergiftung, Verbrennung, Verschlucken, u.v.m
 .</p><p><span class="fett" style="color: #115dad;">Termine:</span><br /> Mi
 ttwoch, 06.03.24 von 09:<span class="kleinhoch">30</span> - 11:30</p><p>Mon
 tag, 22.04.24,von 18:00-20:00</p><p><strong><span class="kleinhoch">Montag 
 26.8.24 </span>von 18:<span class="kleinhoch">00</span> - 20:00<span class=
 "kleinhoch"></span><span class="fett" style="color: #115dad;"></span></stro
 ng></p><p><span class="fett" style="color: #115dad;"><br /> Kosten: </span>
  1 Einheit € 40,- inkl. Handout<br /> Anmeldung erforderlich!</p><p>&nbsp;<
 /p>
CONTACT:01 503 71 88, info@kind-und-kegel.at, www.kind-und-kegel.at
X-EXTRAINFO:[preis='4000'][anmeldung='true']
DTSTAMP:20260423T220046
DTSTART:20240826T160000
DTEND:20240826T180000
SEQUENCE:0
TRANSP:OPAQUE
END:VEVENT
END:VCALENDAR