BEGIN:VCALENDAR
VERSION:2.0
PRODID:-//jEvents 2.0 for Joomla//EN
CALSCALE:GREGORIAN
METHOD:PUBLISH
BEGIN:VEVENT
UID:56562a885248370fe381bf9b34d5cd14
CATEGORIES:16. Bezirk
CREATED:20240103T212023
SUMMARY:Anfang Semesterkurs musikalische Früherziehung
LOCATION:Kulturverein Redtenbach
DESCRIPTION:Unsere Musikgruppen sind für Babys und Kleinkinder von 0 bis 5 Jahren, die 
 von einem Elternteil oder einer anderen Bezugsperson begleitet werden. Geme
 insam mit dem Kind entdecken sie die Welt der Musik. Wir singen, tanzen, mu
 sizieren, entdecken, horchen, improvisieren, spielen und vieles mehr! Die n
 atürliche Freude, die Kinder an Musik haben, steht dabei immer im Mittelpun
 kt. Ohne Leistungsdruck kann jedes Kind mit Freude sein musikalisches und k
 reatives Potential entfalten.In unseren Musikgruppen sind alle willkommen, 
 auch diejenigen, die sich selbst als vollkommen unmusikalisch betrachten! U
 nsere Kurse bieten Eltern außerdem viele Ideen, um Musik zu einem festen Be
 standteil des Familienlebens zu machen.\nUnser Sommersemester 2024 beginnt 
 im Februar (Donnerstagskurs) und März (Montagskurs). Die Kinder werden nach
  Alter in Gruppen mit jeweils max. 8 Kindern eingeteilt.\n\n\nKurstermine D
 onnerstag: 15.02, 22.02, 29.02, 07.03, 14.03, 21.03, 04.04, 11.04, 18.04, 2
 5.04, 02.05 16.05 (Ersatzeinheiten bei Ausfall einer Stunde durch Krankheit
  der Lehrerin:23.05, 06.06)\nKurszeiten Donnerstag:13:00-13:40: 0-18 Monate
 14:00-14:40: 0-18 Monate15:00-15:50: 18 Monate – 3 Jahre16:00-16:50: 3-5 Ja
 hre\n\nKurstermine Montag: 04.03, 11.03, 18.03, 08.04, 15.04, 22.04, 29.04,
  06.05, 13.05, 27.05, 03.06, 10.06 (Ersatzeinheiten bei Ausfall einer Stund
 e durch Krankheit der Lehrerin: 17.06, 24.06)\nKurszeiten Montag:13:00-13:4
 0: 0-18 Monate14:00-14:40: 0-18 Monate15:00-15:50: 18 Monate – 3 Jahre16:00
 -16:50: 3-5 Jahre\n17:00-17:50: 3-5 Jahre\nKurspreise (12 Einheiten):Gruppe
  0-18 Monate (40 Minuten): €160Gruppen 18 Monate – 5 Jahre (50 Minuten): €2
 00\n\nInfo und Anmeldung:\nhttps://www.redtenbach.at/kinder/\n (https://www
 .redtenbach.at/kinder/)kinder@redtenbach.at\n
X-ALT-DESC;FMTTYPE=text/html:<p style="border: medium; line-height: 1.5em; margin: 0px; caret-color: #00
 0000; color: #000000; font-family: 'Roboto Condensed', sans-serif; font-siz
 e: 15px;"><span style="caret-color: #666666; color: #666666; font-family: '
 Libre Franklin', Helvetica, Arial, Lucida, sans-serif; font-size: 14px;">Un
 sere Musikgruppen sind für Babys und Kleinkinder von 0 bis 5 Jahren, die vo
 n einem Elternteil oder einer anderen Bezugsperson begleitet werden. Gemein
 sam mit dem Kind entdecken sie die Welt der Musik. Wir singen, tanzen, musi
 zieren, entdecken, horchen, improvisieren, spielen und vieles mehr! Die nat
 ürliche Freude, die Kinder an Musik haben, steht dabei immer im Mittelpunkt
 . Ohne Leistungsdruck kann jedes Kind mit Freude sein musikalisches und kre
 atives Potential entfalten.</span><br style="box-sizing: border-box; caret-
 color: #666666; color: #666666; font-family: 'Libre Franklin', Helvetica, A
 rial, Lucida, sans-serif; font-size: 14px;" /><span style="caret-color: #66
 6666; color: #666666; font-family: 'Libre Franklin', Helvetica, Arial, Luci
 da, sans-serif; font-size: 14px;">In unseren Musikgruppen sind alle willkom
 men, auch diejenigen, die sich selbst als vollkommen unmusikalisch betracht
 en! Unsere Kurse bieten Eltern außerdem viele Ideen, um Musik zu einem fest
 en Bestandteil des Familienlebens zu machen.</span></p><p style="border: me
 dium; line-height: 1.5em; margin: 0px; caret-color: #000000; color: #000000
 ; font-family: 'Roboto Condensed', sans-serif; font-size: 15px;"><span styl
 e="caret-color: #666666; color: #666666; font-family: 'Libre Franklin', Hel
 vetica, Arial, Lucida, sans-serif; font-size: 14px;"><strong>Unser Sommerse
 mester 2024 beginnt im Februar (Donnerstagskurs) und März (Montagskurs).</s
 trong> Die Kinder werden nach Alter in Gruppen mit jeweils max. 8 Kindern e
 ingeteilt.<br /><br /></span></p><p style="border: 0px; line-height: 1.5em;
  margin: 0px; box-sizing: border-box; padding: 0px 0px 1em; outline: 0px; f
 ont-size: 14px; vertical-align: baseline; background-image: none; backgroun
 d-position: 0% 0%; background-size: auto; background-repeat: repeat; backgr
 ound-attachment: scroll; background-origin: padding-box; background-clip: b
 order-box; caret-color: #666666; color: #666666; font-family: 'Libre Frankl
 in', Helvetica, Arial, Lucida, sans-serif;">Kurstermine Donnerstag: 15.02, 
 22.02, 29.02, 07.03, 14.03, 21.03, 04.04, 11.04, 18.04, 25.04, 02.05 16.05 
 (Ersatzeinheiten bei Ausfall einer Stunde durch Krankheit der Lehrerin:<br 
 style="box-sizing: border-box;" />23.05, 06.06)<br />Kurszeiten Donnerstag:
 <br style="box-sizing: border-box;" />13:00-13:40: 0-18 Monate<br style="bo
 x-sizing: border-box;" />14:00-14:40: 0-18 Monate<br style="box-sizing: bor
 der-box;" />15:00-15:50: 18 Monate – 3 Jahre<br style="box-sizing: border-b
 ox;" />16:00-16:50: 3-5 Jahre<br /><br />Kurstermine Montag: 04.03, 11.03, 
 18.03, 08.04, 15.04, 22.04, 29.04, 06.05, 13.05, 27.05, 03.06, 10.06 (Ersat
 zeinheiten bei Ausfall einer Stunde durch Krankheit der Lehrerin: 17.06, 24
 .06)<br />Kurszeiten Montag:<br style="box-sizing: border-box;" />13:00-13:
 40: 0-18 Monate<br style="box-sizing: border-box;" />14:00-14:40: 0-18 Mona
 te<br style="box-sizing: border-box;" />15:00-15:50: 18 Monate – 3 Jahre<br
  style="box-sizing: border-box;" />16:00-16:50: 3-5 Jahre<br />17:00-17:50:
  3-5 Jahre</p><p style="border: 0px; line-height: 1.5em; margin: 0px; box-s
 izing: border-box; padding: 0px 0px 1em; outline: 0px; font-size: 14px; ver
 tical-align: baseline; background-image: none; background-position: 0% 0%; 
 background-size: auto; background-repeat: repeat; background-attachment: sc
 roll; background-origin: padding-box; background-clip: border-box; caret-co
 lor: #666666; color: #666666; font-family: 'Libre Franklin', Helvetica, Ari
 al, Lucida, sans-serif;">Kurspreise (12 Einheiten):<br style="box-sizing: b
 order-box;" />Gruppe 0-18 Monate (40 Minuten): €160<br style="box-sizing: b
 order-box;" />Gruppen 18 Monate – 5 Jahre (50 Minuten): €200<br /><br />Inf
 o und Anmeldung:<br /><a href="https://www.redtenbach.at/kinder/">https://w
 ww.redtenbach.at/kinder/<br /></a>kinder@redtenbach.at</p>
CONTACT:kinder@redtenbach.at
X-EXTRAINFO:[preis='16000'][anmeldung='true']
DTSTAMP:20260423T131400
DTSTART;VALUE=DATE:20240215
DTEND;VALUE=DATE:20240216
SEQUENCE:0
TRANSP:OPAQUE
END:VEVENT
END:VCALENDAR