BEGIN:VCALENDAR
VERSION:2.0
PRODID:-//jEvents 2.0 for Joomla//EN
CALSCALE:GREGORIAN
METHOD:PUBLISH
BEGIN:VEVENT
UID:44372acd4e79461fbdca0c32d4fd6c9c
CATEGORIES:9. Bezirk
CREATED:20240328T140257
SUMMARY:Babykino OH LA LA
LOCATION:Währingerstraße 12
DESCRIPTION:Jeden zweiten Dienstag laufen die wichtigsten Filme aus unserem Programm al
 s Babykino Vorstellungen in einem nicht gänzlich abgedunkeltem Saal mit etw
 as leiserem Ton. Vor der Vorstellung kann man sich in unserem Café zu Kaffe
 e und Kuchen treffen, und während des Films stehen Wickeltische und ein\nFl
 äschchenwärmer zur Verfügung.\n11:00 Uhr DREAM SCENARIO (https://www.votivk
 ino.at/film/dream-scenario/)\n11:30 Uhr OH LA LA - WER AHNT DENN SOWAS (htt
 ps://www.votivkino.at/film/oh-la-la/)\nTickets und Informationen unter www.
 votivkino.at/specials/babykino (https://www.votivkino.at/specials/babykino)
 \n
X-ALT-DESC;FMTTYPE=text/html:<p style="margin: 0px; font-stretch: normal; font-size: 12px; line-height: 
 normal; font-family: Helvetica;">Jeden zweiten Dienstag laufen die wichtigs
 ten Filme aus unserem Programm als Babykino Vorstellungen in einem nicht gä
 nzlich abgedunkeltem Saal mit etwas leiserem Ton. Vor der Vorstellung kann 
 man sich in unserem Café zu Kaffee und Kuchen treffen, und während des Film
 s stehen Wickeltische und ein</p><p style="margin: 0px; font-stretch: norma
 l; font-size: 12px; line-height: normal; font-family: Helvetica;">Fläschche
 nwärmer zur Verfügung.</p><p style="margin: 0px; font-stretch: normal; font
 -size: 12px; line-height: normal; font-family: Helvetica;">11:00 Uhr <a hre
 f="https://www.votivkino.at/film/dream-scenario/">DREAM SCENARIO</a></p><p 
 style="margin: 0px; font-stretch: normal; font-size: 12px; line-height: nor
 mal; font-family: Helvetica;">11:30 Uhr <a href="https://www.votivkino.at/f
 ilm/oh-la-la/">OH LA LA - WER AHNT DENN SOWAS</a></p><p style="margin: 0px;
  font-stretch: normal; font-size: 12px; line-height: normal; font-family: H
 elvetica;">Tickets und Informationen unter <a href="https://www.votivkino.a
 t/specials/babykino">www.votivkino.at/specials/babykino</a><span></span></p
 >
CONTACT:Votiv Kino
X-EXTRAINFO:[preis='900'][anmeldung='false']
DTSTAMP:20260423T082021
DTSTART:20240402T090000
DTEND:20240402T120000
SEQUENCE:0
TRANSP:OPAQUE
END:VEVENT
END:VCALENDAR