BEGIN:VCALENDAR
VERSION:2.0
PRODID:-//jEvents 2.0 for Joomla//EN
CALSCALE:GREGORIAN
METHOD:PUBLISH
BEGIN:VEVENT
UID:b07677bd86093b61a6369958ea3ae88d
CATEGORIES:18. Bezirk
CREATED:20240409T141931
SUMMARY:Montessori Spielgruppe für Kleinkinder
LOCATION:Therapiezentrum Gersthof\, Klostergasse 31-33\, 1180 Wien
DESCRIPTION:In der Montessori-Spielgruppe für Kleinkinder ab 2 Jahren können Kinder ver
 schiedene Angebote aus der Montessoripädagogik und der Sensorischen Integra
 tion im eigenen Tempo und ihrem eigenen Interesse entsprechend erfahren. Si
 e werden dabei von mir liebevoll begleitet und können ihre Fähigkeiten, etw
 a anhand der Übungen des praktischen Lebens, ausprobieren. Mama oder Papa b
 leiben ebenfalls im Raum und können ihr Kind während seiner Erkundungen ent
 spannt beobachten. Die Gruppe eignet sich gut für alle Familien, die sich f
 ür Montessoripädagogik interessieren oder sie erstmals kennenlernen wollen.
  In den begleitenden Elterngesprächen, die zu separaten Terminen stattfinde
 n, vertiefen wir unser Wissen zu dieser besonderen Pädagogik, teilen Beobac
 htungen aus der Gruppe und klären aktuelle Fragen.Weitere Infos zur Spielgr
 uppe und Anmeldung findest du hier (https://www.tzg.at/member/daniela-pauli
 schin/) auf der Seite des Therapiezentrums Gersthof.\n
X-ALT-DESC;FMTTYPE=text/html:<p><span style="caret-color: #000000; color: #000000; font-size: medium;">I
 n der&nbsp;</span><strong style="caret-color: #000000; color: #000000;">Mon
 tessori-Spielgruppe für Kleinkinder ab 2 Jahren</strong><span style="caret-
 color: #000000; color: #000000; font-size: medium;">&nbsp;können Kinder ver
 schiedene Angebote aus der Montessoripädagogik und der Sensorischen Integra
 tion im eigenen Tempo und ihrem eigenen Interesse entsprechend erfahren. Si
 e werden dabei von mir liebevoll begleitet und können ihre Fähigkeiten, etw
 a anhand der Übungen des praktischen Lebens, ausprobieren. Mama oder Papa b
 leiben ebenfalls im Raum und können ihr Kind während seiner Erkundungen ent
 spannt beobachten. Die Gruppe eignet sich gut für alle Familien, die sich f
 ür Montessoripädagogik interessieren oder sie erstmals kennenlernen wollen.
  In den begleitenden Elterngesprächen, die zu separaten Terminen stattfinde
 n, vertiefen wir unser Wissen zu dieser besonderen Pädagogik, teilen Beobac
 htungen aus der Gruppe und klären aktuelle Fragen.</span><br style="caret-c
 olor: #000000; color: #000000;" /><br style="caret-color: #000000; color: #
 000000;" /><span style="caret-color: #000000; color: #000000; font-size: me
 dium;">Weitere Infos zur Spielgruppe und Anmeldung findest du <a href="http
 s://www.tzg.at/member/daniela-paulischin/">hier</a></span><span style="care
 t-color: #000000; color: #000000; font-size: medium;">&nbsp;auf der Seite d
 es Therapiezentrums Gersthof.</span><br style="caret-color: #000000; color:
  #000000;" /></p>
CONTACT:Daniela Paulischin
X-EXTRAINFO:[preis='16000'][anmeldung='true']
DTSTAMP:20260423T075749
DTSTART:20240425T080000
DTEND:20240425T093000
SEQUENCE:0
TRANSP:OPAQUE
END:VEVENT
END:VCALENDAR