BEGIN:VCALENDAR
VERSION:2.0
PRODID:-//jEvents 2.0 for Joomla//EN
CALSCALE:GREGORIAN
METHOD:PUBLISH
BEGIN:VEVENT
UID:5ead9fd726152b7ad3d3bdff33bfa6ae
CATEGORIES:9. Bezirk
CREATED:20240415T143938
SUMMARY:Mit Kindern über Geld sprechen
LOCATION:Online
DESCRIPTION:Die meisten Menschen lernen den Umgang mit Geld - wenn überhaupt - in der F
 amilie. In diesem Seminar beschäftigen wir uns daher damit, welche Fertigke
 iten für Finanzkompetenz wichtig sind, wie man sie im Alltag vermittelt und
  gehen speziell auf das Thema Taschengeld ein. Dieses Online-Seminar richte
 t sich v.a. an Eltern oder Bezugspersonen von Kindern zwischen 3 und 10 Jah
 ren. \nAnmelden bitte über die Website: https://geldleben.at/veranstaltung/
 mit-kindern-ueber-geld-sprechen-3/\n
X-ALT-DESC;FMTTYPE=text/html:<p>Die meisten Menschen lernen den Umgang mit Geld - wenn überhaupt - in de
 r Familie. In diesem Seminar beschäftigen wir uns daher damit, welche Ferti
 gkeiten für Finanzkompetenz wichtig sind, wie man sie im Alltag vermittelt 
 und gehen speziell auf das Thema Taschengeld ein. Dieses Online-Seminar ric
 htet sich v.a. an Eltern oder Bezugspersonen von Kindern zwischen 3 und 10 
 Jahren.&nbsp;</p><p>Anmelden bitte über die Website:&nbsp;https://geldleben
 .at/veranstaltung/mit-kindern-ueber-geld-sprechen-3/</p>
CONTACT:info@geldleben.at
X-EXTRAINFO:[preis='000'][anmeldung='true']
DTSTAMP:20260423T080644
DTSTART:20240424T163000
DTEND:20240424T183000
SEQUENCE:0
TRANSP:OPAQUE
END:VEVENT
END:VCALENDAR