BEGIN:VCALENDAR
VERSION:2.0
PRODID:-//jEvents 2.0 for Joomla//EN
CALSCALE:GREGORIAN
METHOD:PUBLISH
BEGIN:VEVENT
UID:8d14d4673444d425c6cc32a4794415dc
CATEGORIES:8. Bezirk
CREATED:20240426T170622
SUMMARY:BABYKONZERT / KLASSIK COOL! MOZART für Babys
LOCATION:Bezirksmuseum Josefstadt
DESCRIPTION:Krabbelkonzerte bieten Musik für Babys, Eltern, Großeltern,\neine gemeinsam
 e, verbindende musikalische Erlebnis.\nKlassik Cool! Babykonzerte sind kurz
 weilig, entspannend,  anregend, abwechslungsreich. Schon die Jüngsten reagi
 eren mit Interesse bis Begeisterung auf die komplexen Töne, wiegen sich zum
  Rhythmus der Musik und lassen sich von der Musiklust der Eltern anstecken.
  Dauer: ca 40 Minuten\nKarten: 9 Euro pro Person (sowohl Erwachsene als auc
 h Babys)\nKartenverkauf über die Webseite www.kinderkonzerte.wien (https://
 www.kinderkonzerte.wien)\nEventuelle Restkarten an der Tageskassa.\n \n
X-ALT-DESC;FMTTYPE=text/html:<p style="border: 0px; font-size: 15px; margin: 0px 0px 1.625em; outline: 0
 px; padding: 0px; vertical-align: baseline; color: #373737;"><strong style=
 "border: 0px; font-family: inherit; font-style: inherit; margin: 0px; outli
 ne: 0px; padding: 0px; vertical-align: baseline;">Krabbelkonzert</strong>e 
 bieten&nbsp;<strong style="border: 0px; font-family: inherit; font-style: i
 nherit; margin: 0px; outline: 0px; padding: 0px; vertical-align: baseline;"
 >Musik für Babys</strong>, Eltern, Großeltern,<br />eine gemeinsame, verbin
 dende musikalische Erlebnis.</p><p style="border: 0px; font-size: 15px; mar
 gin: 0px 0px 1.625em; outline: 0px; padding: 0px; vertical-align: baseline;
  color: #373737;"><strong style="border: 0px; font-family: inherit; font-st
 yle: inherit; margin: 0px; outline: 0px; padding: 0px; vertical-align: base
 line;">Klassik Cool! Babykonzerte</strong>&nbsp;sind kurzweilig, entspannen
 d,&nbsp; anregend, abwechslungsreich. Schon die Jüngsten reagieren mit Inte
 resse bis Begeisterung auf die komplexen Töne, wiegen sich zum Rhythmus der
  Musik und lassen sich von der Musiklust der Eltern anstecken. Dauer: ca 40
  Minuten</p><p style="border: 0px; font-size: 15px; margin: 0px 0px 1.625em
 ; outline: 0px; padding: 0px; vertical-align: baseline; color: #373737;">Ka
 rten: 9 Euro pro Person (sowohl Erwachsene als auch Babys)<br />Kartenverka
 uf über die Webseite <a href="https://www.kinderkonzerte.wien">www.kinderko
 nzerte.wien</a></p><p style="border: 0px; font-size: 15px; margin: 0px 0px 
 1.625em; outline: 0px; padding: 0px; vertical-align: baseline; color: #3737
 37;">Eventuelle Restkarten an der Tageskassa.</p><p>&nbsp;</p>
CONTACT:Kulturverein grossundklein / www.grossunklein.info
X-EXTRAINFO:[preis='900'][anmeldung='true']
DTSTAMP:20260426T033211
DTSTART:20251022T080000
DTEND:20251022T084000
SEQUENCE:0
TRANSP:OPAQUE
END:VEVENT
END:VCALENDAR