BEGIN:VCALENDAR
VERSION:2.0
PRODID:-//jEvents 2.0 for Joomla//EN
CALSCALE:GREGORIAN
METHOD:PUBLISH
BEGIN:VEVENT
UID:e681b01171a040913b7b32d3669bb294
CATEGORIES:1. Bezirk
CREATED:20240426T172256
SUMMARY:MUSIK & MÄRCHEN für Kinder ab 2 / Hans und die Bohnenranke
LOCATION:1.\, Haus der Musik
DESCRIPTION:KLASSIK COOL!Hans und die Bohnenranke\nMitmach-Konzert für Kinder ab 2 Jahr
 enZauberbohnen, Zaubersprüche, rätselhaftes Zauberschloss!  Ein spannendes 
 Märchen mit klassischen Musikstücken, Volkslieder und traditionelle Erzählk
 unst untermalt.\nRhythmik Spiele, gemeinsames Singen, musikalische Rätsel b
 ieten ein ganzheitliches Erlebnis.\nDauer: 45 Minuten.\nNach dem Konzert kö
 nnen interessierte Kinder die Musikinstrumente auch ausprobieren. Mit Erzäh
 lung, Klavier, Violine.\nKARTEN: 13 Euro pro Person\nALLE TERMINE: www.gros
 sundklein.info\n \n
X-ALT-DESC;FMTTYPE=text/html:<h3>KLASSIK COOL!</h3><p><strong>Hans un<i></i>d die Bohnenranke</strong></
 p><h3>Mitmach-Konzert für Kinder ab 2 Jahren</h3><p>Zauberbohnen, Zauberspr
 üche, rätselhaftes Zauberschloss!&nbsp; Ein spannendes Märchen mit klassisc
 hen Musikstücken, Volkslieder und traditionelle Erzählkunst untermalt.</p><
 p>Rhythmik Spiele, gemeinsames Singen, musikalische Rätsel bieten ein ganzh
 eitliches Erlebnis.</p><p>Dauer: 45 Minuten.</p><p>Nach dem Konzert können 
 interessierte Kinder die Musikinstrumente auch ausprobieren. Mit Erzählung,
  Klavier, Violine.</p><p>KARTEN: 13 Euro pro Person</p><p>ALLE TERMINE: www
 .grossundklein.info</p><p>&nbsp;</p>
CONTACT:https://www.hdm.at/konzert/klassik-cool-hans-und-die-bohnenranke/
X-EXTRAINFO:[preis='1300'][anmeldung='true']
DTSTAMP:20260423T082111
DTSTART:20240505T133000
DTEND:20240505T141500
SEQUENCE:0
TRANSP:OPAQUE
END:VEVENT
END:VCALENDAR