BEGIN:VCALENDAR
VERSION:2.0
PRODID:-//jEvents 2.0 for Joomla//EN
CALSCALE:GREGORIAN
METHOD:PUBLISH
BEGIN:VEVENT
UID:4e689a8adee2af97730f0f0bd0b7b530
CATEGORIES:1. Bezirk
CREATED:20240430T102238
SUMMARY:Mein Baby in der Welt der Globen
LOCATION:Österreichische Nationalbibliothek\, Servicedesk Palais Mollard\, Herrengas
 se 9\, 1010 Wien
DESCRIPTION:<p>Kurzweilige Führungen erwarten Sie und Ihr Baby in der Österreichischen 
 Nationalbibliothek. In entspannter Atmosphäre finden Führungen für Eltern u
 nd Betreuungspersonen von Neugeborenen und Babys durch das Globenmuseum sta
 tt. Stillen, Fläschchen, Tragehilfe und Kinderwagen sind willkommen (wir em
 pfehlen die Tragehilfe). Im Liegen oder Sitzen auf Babymatten, im Stehen od
 er Schaukeln erfahren die Besucher*innen mit Babys bei diesen Führungen spa
 nnende Details über die prunkvollen Sammlungen und Räumlichkeiten der Öster
 reichischen Nationalbibliothek.<a href="https://ticket.onb.ac.at/baby_prunk
 saal"></a><span></span></p><p><a href="https://ticket.onb.ac.at/baby_globen
 ">https://ticket.onb.ac.at/baby_globen</a></p>
CONTACT:kulturvermittlung@onb.ac.at
X-EXTRAINFO:[preis='950'][anmeldung='true']
DTSTAMP:20260423T142051
DTSTART:20240514T070000
DTEND:20240514T080000
SEQUENCE:0
TRANSP:OPAQUE
END:VEVENT
END:VCALENDAR