BEGIN:VCALENDAR
VERSION:2.0
PRODID:-//jEvents 2.0 for Joomla//EN
CALSCALE:GREGORIAN
METHOD:PUBLISH
BEGIN:VEVENT
UID:b049f09462bda14b7e611b536770254c
CATEGORIES:15. Bezirk
CREATED:19700101T010000
SUMMARY:Eltern-Kind-Turnen (1,5-3,5 Jahre)
LOCATION:VHS Rudolfsheim-Fünfhaus
DESCRIPTION:<p>Dieses abwechslungsreiche Spiel- und Bewegungsprogramm bietet Kindern di
 e Möglichkeit, gemeinsam mit ihren Eltern neue Bewegungserfahrungen zu mach
 en. Sie entwickeln dadurch mehr Sicherheit und Vertrauen in die eigenen Fäh
 igkeiten. Oft findet in diesem Rahmen der erste, behutsam begleitete Kontak
 t mit anderen Kindern statt. Altersgerechte Spiele, Tänze und jede Menge Ge
 legenheit zum Turnen und Toben fördern Beweglichkeit, Geschicklichkeit und 
 Rhythmusgefühl. Ziel: Die Kinder verfügen über mehr Bewegungssicherheit und
  -freiheit im Alltag.</p>
CONTACT:01/891 74 115 000
X-EXTRAINFO:[preis='2900'][anmeldung='true']
DTSTAMP:20260423T111903
DTSTART:20240816T143000
DTEND:20240816T153000
SEQUENCE:0
RRULE:FREQ=WEEKLY;COUNT=4;INTERVAL=1;BYDAY=FR
TRANSP:OPAQUE
END:VEVENT
END:VCALENDAR