BEGIN:VCALENDAR
VERSION:2.0
PRODID:-//jEvents 2.0 for Joomla//EN
CALSCALE:GREGORIAN
METHOD:PUBLISH
BEGIN:VEVENT
UID:d6e68d9b32ce15c5a66762eb9c23dd67
CATEGORIES:15. Bezirk
CREATED:19700101T010000
SUMMARY:Mama-Baby-Yoga
LOCATION:VHS Rudolfsheim-Fünfhaus
DESCRIPTION:Mit sanften Yoga-Übungen wird der Beckenboden gestärkt und die Rücken- und 
 Bauchmuskulatur trainiert. Entspannungselemente tragen zum körperlichen und
  seelischen Wohlbefinden bei. Die Möglichkeit zum Erfahrungsaustausch mit a
 nderen Müttern gibt zudem mehr Sicherheit in der neuen Lebensphase. Das Bab
 y ist mit dabei! \n
X-ALT-DESC;FMTTYPE=text/html:<p>Mit sanften Yoga-Übungen wird der Beckenboden gestärkt und die Rücken- u
 nd Bauchmuskulatur trainiert. Entspannungselemente tragen zum körperlichen 
 und seelischen Wohlbefinden bei. Die Möglichkeit zum Erfahrungsaustausch mi
 t anderen Müttern gibt zudem mehr Sicherheit in der neuen Lebensphase. Das 
 Baby ist mit dabei!&nbsp;</p>
CONTACT:01/891 74 115 000
X-EXTRAINFO:[preis='3200'][anmeldung='true']
DTSTAMP:20260423T104511
DTSTART:20240801T083000
DTEND:20240801T093000
SEQUENCE:0
RRULE:FREQ=WEEKLY;COUNT=4;INTERVAL=1;BYDAY=TH
TRANSP:OPAQUE
END:VEVENT
END:VCALENDAR