BEGIN:VCALENDAR
VERSION:2.0
PRODID:-//jEvents 2.0 for Joomla//EN
CALSCALE:GREGORIAN
METHOD:PUBLISH
BEGIN:VEVENT
UID:9ec86892c8f8d9746827bc444c243669
CATEGORIES:6. Bezirk
CREATED:19700101T010000
SUMMARY:Bewegungswelt (Krabbelalter bis 20 Monate)
LOCATION:6.\, Sandwirtgasse 13/12
DESCRIPTION:Für Babies vom Krabbelalter bis 20 Monate \nSpielgruppe mit Bewegungsschwer
 punkt\n- Kletterbogen\n- Kriechtunnel\n- Bewegungs-Landschaften\n- Ballspie
 le\n- Sing- und Tanzspiele\nDie Bewegungswelt  ist für Kinder ab dem Krabbe
 lalter bis 20 Monate. \nWir krabbeln, kuscheln, singen, springen, kriechen 
 und tanzen – und haben gemeinsam jede Menge Spaß. So stärken wir Körpergefü
 hl, Grobmotorik und die Lust, uns zu bewegen. \nWir bauen eine bunte Bewegu
 ngslandschaft auf. Dieses bietet unterschiedlichste Bewegungsmöglichkeiten 
 und Bewegungserfahrungen. Deinem Kind werden dadurch großräumige Bewegungse
 rfahrungen ermöglicht. \nBeim Klettern, Rutschen, Rollen, Krabbeln, Balanci
 eren, Springen und vielem mehr hat dein Kinder die Chance für eigenständige
  Entscheidungen und lernen so seine/ihre Fähigkeiten einzuschätzen und zu e
 rweitern.\n Die Bewegungslandschaft greift Anregungen aus der Natur auf und
  lässt sie in  die Bewegungsförderung einfließen. \n10 - 15 Minuten vor Sch
 luss trefft ihr euch gemeinsam im Kreis, macht ein Abschlussritual und sing
 t ein Abschlusslied. \nInfos zur Bewegungswelt (https://www.biolino.at/spie
 lgruppen/bewegungswelten/)\n \nTermine im Sommerspaß-Programm 2024\n 16., 2
 3., 30 Juli 2024\n6., 13. August 2024\nEinstieg jederzeit möglich mit der f
 lexiblen Blockkarte (https://www.app.anoah.at/page/f?apiKey=d5ba690e090442e
 0adb5861b99d5425f)! (Auch Schnupperstunde möglich mit Schnupperkarte!!)\nww
 w.biolino.at (http://www.biolino.at)\n \nmartina.novak@biolino.at, (mailto:
 martina.novak@biolino.at,) 0677 628 929 70\nSandwirtgasse 13/12, 1060 Wien\
 nWir freuen uns auf euch! &lt;3\n \nMartina und das Biolino Team\n \n
X-ALT-DESC;FMTTYPE=text/html:<h3><span lang="DE-AT">Für Babies vom Krabbelalter bis 20 Monate</span></h3
 ><p>&nbsp;</p><p><strong><span lang="DE-AT">Spielgruppe mit Bewegungsschwer
 punkt</span></strong></p><p style="margin: 0cm; margin-bottom: .0001pt;"><s
 pan lang="DE-AT">- Kletterbogen</span></p><p style="margin: 0cm; margin-bot
 tom: .0001pt;"><span lang="DE-AT">- Kriechtunnel</span></p><p style="margin
 : 0cm; margin-bottom: .0001pt;"><span lang="DE-AT">- Bewegungs-Landschaften
 </span></p><p style="margin: 0cm; margin-bottom: .0001pt;"><span lang="DE-A
 T">- Ballspiele</span></p><p style="margin: 0cm; margin-bottom: .0001pt;"><
 span lang="DE-AT">- Sing- und Tanzspiele</span></p><p><span lang="DE-AT">Di
 e <strong>Bewegungswelt</strong>&nbsp; ist für Kinder ab dem Krabbelalter b
 is 20 Monate. </span></p><p><span lang="DE-AT">Wir krabbeln, kuscheln, sing
 en, springen, kriechen und tanzen – und haben gemeinsam jede Menge Spaß. So
  stärken wir Körpergefühl, Grobmotorik und die Lust, uns zu bewegen. </span
 ></p><p><span lang="DE-AT">Wir bauen eine bunte Bewegungslandschaft auf. Di
 eses bietet unterschiedlichste Bewegungsmöglichkeiten und Bewegungserfahrun
 gen. Deinem Kind werden dadurch großräumige Bewegungserfahrungen ermöglicht
 . </span></p><p><span lang="DE-AT">Beim Klettern, Rutschen, Rollen, Krabbel
 n, Balancieren, Springen und vielem mehr hat dein Kinder die Chance für eig
 enständige Entscheidungen und lernen so seine/ihre Fähigkeiten einzuschätze
 n und zu erweitern.<br /> Die Bewegungslandschaft greift Anregungen aus der
  Natur auf und lässt sie in&nbsp; die Bewegungsförderung einfließen. </span
 ></p><p><span lang="DE-AT">10 - 15 Minuten vor Schluss trefft ihr euch geme
 insam im Kreis, macht ein Abschlussritual und singt ein Abschlusslied. </sp
 an></p><p><span lang="DE-AT"><a href="https://www.biolino.at/spielgruppen/b
 ewegungswelten/">Infos zur Bewegungswelt</a></span></p><p>&nbsp;</p><p styl
 e="margin: 0cm; margin-bottom: .0001pt;"><b style="mso-bidi-font-weight: no
 rmal;"><span lang="DE-AT">Termine im Sommerspaß-Programm 2024</span></b></p
 ><p><span lang="DE-AT">&nbsp;16., 23., 30 Juli 2024</span></p><p><span lang
 ="DE-AT">6., 13. August 2024</span></p><p><span lang="DE-AT">Einstieg jeder
 zeit möglich mit der flexiblen <a href="https://www.app.anoah.at/page/f?api
 Key=d5ba690e090442e0adb5861b99d5425f">Blockkarte</a>! (Auch Schnupperstunde
  möglich mit Schnupperkarte!!)</span></p><p><span lang="DE-AT"><a href="htt
 p://www.biolino.at">www.biolino.at</a></span></p><p>&nbsp;</p><p><span lang
 ="DE-AT"><a href="mailto:martina.novak@biolino.at,">martina.novak@biolino.a
 t,</a> 0677 628 929 70</span></p><p><span lang="DE-AT">Sandwirtgasse 13/12,
  1060 Wien</span></p><p><span lang="DE-AT">Wir freuen uns auf euch! &lt;3</
 span></p><p>&nbsp;</p><p><span lang="DE-AT">Martina und das Biolino Team</s
 pan></p><p>&nbsp;</p>
CONTACT:martina.novak@biolino.at, 067762892970
X-EXTRAINFO:[preis='2200'][anmeldung='true']
DTSTAMP:20260423T141728
DTSTART:20240716T073000
DTEND:20240716T083000
SEQUENCE:0
RRULE:FREQ=WEEKLY;UNTIL=20240813T000000Z;INTERVAL=1;BYDAY=TU
TRANSP:OPAQUE
END:VEVENT
END:VCALENDAR