BEGIN:VCALENDAR
VERSION:2.0
PRODID:-//jEvents 2.0 for Joomla//EN
CALSCALE:GREGORIAN
METHOD:PUBLISH
BEGIN:VEVENT
UID:ea7e5bc649d2391b76850533e7f00c34
CATEGORIES:6. Bezirk
CREATED:19700101T010000
SUMMARY:Baby-Atelier (Sitzalter bis 2,5 Jahre)
LOCATION:6.\, Sandwirtgasse 13/12
DESCRIPTION:Baby-Atelier\nFür Kinder ab dem Sitzalter bis 2,5 JahreGruppe 1: 09.30 - 10
 .30 Uhr\n Gruppe 2: 11.00 - 12.00 Uhr\nGruppe 3: 14.30 - 15.30 Uhr\nSpielgr
 uppe mit dem Schwerpunkt haptische Sinnesschulung\n- Experimentieren mit Fa
 rben, Konsistenzen und unterschiedlichsten Materialien\nDie kleinen Künstle
 rinnen und Künstler können im Biolino Baby-Atelier nach Herzenslust mit sel
 bst hergestellten Bio-Farben matschen und gatschen, ohne dass Mama oder Pap
 a nachher aufräumen müssen. Über das ganze Semester verteilt führen wir imm
 er wieder neues Erlebnismaterial in die Gruppe ein.\n \n Klebrig, matschig,
  bröselig, kratzig: Sand, Erde, Getreidekörner, Holz und viele andere hapti
 sche Anregungen warten auf experimentierfreudige Entdecker*innen. Die Kinde
 r können nach Herzenslust die Bio-Farben und Materialien mischen und dabei 
 mit allen Sinnen erleben, wie sie ihre Eigenschaften verändern.\n \nEinstie
 g jederzeit möglich!Flexibel mit der Biolino Blockkarte: www.biolino.at/Blo
 ckkarte \nweitere Infos unter: Baby-Atelier (https://www.biolino.at/spielgr
 uppen/baby-atelier/)\n \nwww.biolino.at (http://www.biolino.at) martina.nov
 ak@biolino.at (mailto:martina.novak@biolino.at) 0677 628 929 70\nSandwirtga
 sse 13/12, 1060 Wien\n \nWir freuen uns auf euch! &lt;3\nMartina und das Bi
 olino Team\n \n\n \n
X-ALT-DESC;FMTTYPE=text/html:<p><strong><span lang="DE-AT">Baby-Atelier</span></strong></p><h2><span lan
 g="DE-AT">Für Kinder ab dem Sitzalter bis 2,5 Jahre</span></h2><p style="ma
 rgin: 0cm; margin-bottom: .0001pt;"><strong><span lang="DE-AT">Gruppe 1</sp
 an></strong><span lang="DE-AT">: 09.30 - 10.30 Uhr<br /> <strong>Gruppe 2</
 strong>: 11.00 - 12.00 Uhr</span></p><p style="margin: 0cm; margin-bottom: 
 .0001pt;"><strong><span lang="DE-AT">Gruppe 3</span></strong><span lang="DE
 -AT">: 14.30 - 15.30 Uhr</span></p><p><strong><span lang="DE-AT">Spielgrupp
 e mit dem Schwerpunkt haptische Sinnesschulung</span></strong></p><p><span 
 lang="DE-AT">- Experimentieren mit Farben, Konsistenzen und unterschiedlich
 sten Materialien</span></p><p><span lang="DE-AT">Die kleinen Künstlerinnen 
 und Künstler können im Biolino Baby-Atelier nach Herzenslust mit selbst her
 gestellten Bio-Farben matschen und gatschen, ohne dass Mama oder Papa nachh
 er aufräumen müssen. Über das ganze Semester verteilt führen wir immer wied
 er neues Erlebnismaterial in die Gruppe ein.<br /> <br /> Klebrig, matschig
 , bröselig, kratzig: Sand, Erde, Getreidekörner, Holz und viele andere hapt
 ische Anregungen warten auf experimentierfreudige Entdecker*innen. Die Kind
 er können nach Herzenslust die Bio-Farben und Materialien mischen und dabei
  mit allen Sinnen erleben, wie sie ihre Eigenschaften verändern.</span></p>
 <p>&nbsp;</p><h2 style="margin: 0cm; margin-bottom: .0001pt;"><span lang="D
 E-AT" style="font-size: 12.0pt; color: red;">Einstieg jederzeit möglich!</s
 pan></h2><h2 style="margin: 0cm; margin-bottom: .0001pt;"><span lang="DE-AT
 ">Flexibel mit der Biolino Blockkarte: www.biolino.at/Blockkarte</span><spa
 n lang="DE-AT" style="font-size: 12.0pt;"> <br /></span></h2><p><span lang=
 "DE-AT">weitere Infos unter: <a href="https://www.biolino.at/spielgruppen/b
 aby-atelier/" title="Baby-Atelier">Baby-Atelier</a></span></p><p>&nbsp;</p>
 <p><span lang="DE-AT"><a href="http://www.biolino.at" title="www.biolion.at
 ">www.biolino.at</a> <a href="mailto:martina.novak@biolino.at">martina.nova
 k@biolino.at</a> <span style="mso-spacerun: yes;"></span>0677 628 929 70</s
 pan></p><p><span lang="DE-AT">Sandwirtgasse 13/12, 1060 Wien</span></p><p>&
 nbsp;</p><p><span lang="DE-AT">Wir freuen uns auf euch! &lt;3</span></p><p>
 <span lang="DE-AT">Martina und das Biolino Team</span></p><p>&nbsp;</p><p c
 lass="MsoNormal"><span lang="DE-AT"></span></p><p>&nbsp;</p>
CONTACT:martina.novak@biolino.at, 067762892970
X-EXTRAINFO:[preis='000'][anmeldung='true']
DTSTAMP:20260423T161036
DTSTART:20240717T073000
DTEND:20240717T083000
SEQUENCE:0
RRULE:FREQ=WEEKLY;UNTIL=20240815T000000Z;INTERVAL=1;BYDAY=WE
TRANSP:OPAQUE
END:VEVENT
END:VCALENDAR