BEGIN:VCALENDAR
VERSION:2.0
PRODID:-//jEvents 2.0 for Joomla//EN
CALSCALE:GREGORIAN
METHOD:PUBLISH
BEGIN:VEVENT
UID:ac07925e7f4a9184bf6de0387f3a7ff4
CATEGORIES:2. Bezirk
CREATED:19700101T010000
SUMMARY:Eltern-Kind-Spielgruppe 06-12 Monate SOMMER
LOCATION:Eltern-Kind-Zentrum Kind&amp;Kegel\, Praterstraße 14/8\, 1020 Wien
DESCRIPTION:Eltern-Kind-Spielgruppen Für Kinder ab 6 Monaten mit einer BegleitpersonFin
 ger-, Schoß- und Kreisspiele  in einer Gruppe von Gleichaltrigen machen gle
 ich doppelt so viel Spaß. Eine vorbereitete Umgebung lädt zum Entdecken ein
  und für den Austausch unter den Eltern/Begleitpersonen ist auch genügend Z
 eit!\nSommerspielgruppen können auch einzeln gebucht werden!\nAnmeldung not
 wendig (per mail, telefonisch oder persönlich).\nKosten: 8 Einheiten € 123.
 -, 5 Einheiten € 77.-, Einzeleinheit € 16.-\n \n
X-ALT-DESC;FMTTYPE=text/html:<h2 style="color: #78c752;"><span style="font-size: 146%;">E</span>ltern-Ki
 nd-Spielgruppen&nbsp;</h2><h3>Für Kinder ab 6 Monaten mit einer Begleitpers
 on</h3><p>Finger-, Schoß- und Kreisspiele&nbsp; in einer Gruppe von Gleicha
 ltrigen machen gleich doppelt so viel Spaß. Eine vorbereitete Umgebung lädt
  zum Entdecken ein und für den Austausch unter den Eltern/Begleitpersonen i
 st auch genügend Zeit!</p><p>Sommerspielgruppen können auch einzeln gebucht
  werden!</p><p>Anmeldung notwendig (per mail, telefonisch oder persönlich).
 </p><p>Kosten: 8 Einheiten € 123.-, 5 Einheiten € 77.-, Einzeleinheit € 16.
 -</p><p>&nbsp;</p>
CONTACT:info@kind-und-kegel.at, 01 503 71 88
X-EXTRAINFO:[preis='1600'][anmeldung='true']
DTSTAMP:20260423T234124
DTSTART:20240708T073000
DTEND:20240708T090000
SEQUENCE:0
RRULE:FREQ=WEEKLY;UNTIL=20240827T000000Z;INTERVAL=1;BYDAY=MO
EXDATE:20240701T073000,20240715T073000,20240722T073000,20240729T073000
TRANSP:OPAQUE
END:VEVENT
END:VCALENDAR