BEGIN:VCALENDAR
VERSION:2.0
PRODID:-//jEvents 2.0 for Joomla//EN
CALSCALE:GREGORIAN
METHOD:PUBLISH
BEGIN:VEVENT
UID:2f67b9d7bc7828e1ac833d5100e11cf8
CATEGORIES:2. Bezirk
CREATED:19700101T010000
SUMMARY:Stillgruppe SOMMER 
LOCATION:Eltern-Kind-Zentrum Kind&amp;Kegel\, Praterstraße 14/8\, 1020 Wien
DESCRIPTION:Austausch und Fragen rund ums Stillen\nRahmenbedingungen: 8-9 Mütter mit Ba
 bys, herzlich willkommen sind auch Papas, Omas, Opas usw.\n Themenbereiche 
 für die Stillgruppen\n \n10.7.24\nMit Baby durch den Sommer: Stillen und So
 nne\n24.7.24\nSchmerzen beim Stillen\n7.8.24\nStillen und Schlafen\n21.8.24
 \nStillen und Eingewöhnung\n \n
X-ALT-DESC;FMTTYPE=text/html:<p>Austausch und Fragen rund ums Stillen</p><p class="MsoNormal">Rahmenbedi
 ngungen: 8-9 Mütter mit Babys, herzlich willkommen sind auch Papas, Omas, O
 pas usw.</p><p>&nbsp;Themenbereiche für die Stillgruppen</p><p>&nbsp;</p><t
 able border="0" class="MsoNormalTable" style="border-collapse: collapse; ms
 o-yfti-tbllook: 1184; mso-padding-alt: 0cm 0cm 0cm 0cm;" cellspacing="0" ce
 llpadding="0"><tbody><tr style="mso-yfti-irow: 0; mso-yfti-firstrow: yes;">
 <td style="width: 113.15pt; border: solid windowtext 1.0pt; padding: 0cm 5.
 4pt 0cm 5.4pt;" width="151" valign="top"><p class="MsoNormal">10.7.24</p></
 td><td style="width: 339.95pt; border: solid windowtext 1.0pt; border-left:
  none; padding: 0cm 5.4pt 0cm 5.4pt;" width="453" valign="top"><p class="Ms
 oNormal">Mit Baby durch den Sommer: Stillen und Sonne</p></td></tr><tr styl
 e="mso-yfti-irow: 1;"><td style="width: 113.15pt; border: solid windowtext 
 1.0pt; border-top: none; padding: 0cm 5.4pt 0cm 5.4pt;" width="151" valign=
 "top"><p class="MsoNormal">24.7.24</p></td><td style="width: 339.95pt; bord
 er-top: none; border-left: none; border-bottom: solid windowtext 1.0pt; bor
 der-right: solid windowtext 1.0pt; padding: 0cm 5.4pt 0cm 5.4pt;" width="45
 3" valign="top"><p class="MsoNormal">Schmerzen beim Stillen</p></td></tr><t
 r style="mso-yfti-irow: 2;"><td style="width: 113.15pt; border: solid windo
 wtext 1.0pt; border-top: none; padding: 0cm 5.4pt 0cm 5.4pt;" width="151" v
 align="top"><p class="MsoNormal">7.8.24</p></td><td style="width: 339.95pt;
  border-top: none; border-left: none; border-bottom: solid windowtext 1.0pt
 ; border-right: solid windowtext 1.0pt; padding: 0cm 5.4pt 0cm 5.4pt;" widt
 h="453" valign="top"><p class="MsoNormal">Stillen und Schlafen</p></td></tr
 ><tr style="mso-yfti-irow: 3; mso-yfti-lastrow: yes;"><td style="width: 113
 .15pt; border: solid windowtext 1.0pt; border-top: none; padding: 0cm 5.4pt
  0cm 5.4pt;" width="151" valign="top"><p class="MsoNormal">21.8.24</p></td>
 <td style="width: 339.95pt; border-top: none; border-left: none; border-bot
 tom: solid windowtext 1.0pt; border-right: solid windowtext 1.0pt; padding:
  0cm 5.4pt 0cm 5.4pt;" width="453" valign="top"><p class="MsoNormal">Stille
 n und Eingewöhnung</p></td></tr></tbody></table><p>&nbsp;</p>
CONTACT:info@kind-und-kegel.at, 01 503 71 88
X-EXTRAINFO:[preis='1500'][anmeldung='true']
DTSTAMP:20260423T221906
DTSTART:20240710T073000
DTEND:20240710T090000
SEQUENCE:0
RRULE:FREQ=WEEKLY;UNTIL=20240822T000000Z;INTERVAL=2;BYDAY=WE
TRANSP:OPAQUE
END:VEVENT
END:VCALENDAR