BEGIN:VCALENDAR
VERSION:2.0
PRODID:-//jEvents 2.0 for Joomla//EN
CALSCALE:GREGORIAN
METHOD:PUBLISH
BEGIN:VEVENT
UID:a7987bdcf2cc017934b843404c89c89e
CATEGORIES:2. Bezirk
CREATED:19700101T010000
SUMMARY:Kreativgruppe KRIXI KRAXI ab 2 Jahren
LOCATION:Eltern-Kind-Zentrum Kind&amp;Kegel\, Praterstraße 14/8\, 1020 Wien
DESCRIPTION:Malen und Experimentieren mit Wasser\nBei Schönwetter in der Kind&amp;Kegel
  Grätzeloase direkt vor dem Haus!\nFreitag, 5.7., 12.7.24\nKosten: € 15.-/p
 ro Einheit\nAnmeldung erforderlich!\n
X-ALT-DESC;FMTTYPE=text/html:<p>Malen und Experimentieren mit Wasser</p><p>Bei Schönwetter in der Kind&a
 mp;Kegel Grätzeloase direkt vor dem Haus!</p><p>Freitag, 5.7., 12.7.24</p><
 p>Kosten: € 15.-/pro Einheit</p><p>Anmeldung erforderlich!</p>
CONTACT:info@kind-und-kegel.at, 01 503 71 88
X-EXTRAINFO:[preis='1500'][anmeldung='true']
DTSTAMP:20260424T011240
DTSTART:20240705T143000
DTEND:20240705T160000
SEQUENCE:0
RRULE:FREQ=WEEKLY;UNTIL=20240713T000000Z;INTERVAL=1;BYDAY=FR
TRANSP:OPAQUE
END:VEVENT
END:VCALENDAR