BEGIN:VCALENDAR
VERSION:2.0
PRODID:-//jEvents 2.0 for Joomla//EN
CALSCALE:GREGORIAN
METHOD:PUBLISH
BEGIN:VEVENT
UID:d53c59f3a74e13ab45d0208c04039167
CATEGORIES:2. Bezirk
CREATED:20240529T160354
SUMMARY:Geschwisterkurs ab 2,5J
LOCATION:Eltern-Kind-Zentrum Kind&amp;Kegel\, Praterstraße 14/8\, 1020 Wien
DESCRIPTION:Geschwisterkurs für Kinder ab 2,5J \nDu bekommst ein Geschwisterchen? Dann 
 bist du bei uns genau richtig. Spielerisch geben wir dir einen Einblick was
  im Bauch deiner Mama passiert, was der kleine Neuankömmling braucht. Babyb
 ad, wickeln, stillen, Fläschchen, tragen… all das darfst du ausprobieren. B
 itte bring deine Puppe und einen Schal, sowie deine Mama oder Papa in den K
 urs mit.\nTermin:\n Mittwoch, 26.08.24, 1530 - 1700 Uhr\n\n Kosten:  € 23,-
 \n Anmeldung erforderlich! (Höchste Teilnehmeranzahl: 10)\n \n
X-ALT-DESC;FMTTYPE=text/html:<h2>Geschwisterkurs für Kinder ab 2,5J</h2><p>&nbsp;</p><p>Du bekommst ein 
 Geschwisterchen? Dann bist du bei uns genau richtig. Spielerisch geben wir 
 dir einen Einblick was im Bauch deiner Mama passiert, was der kleine Neuank
 ömmling braucht. Babybad, wickeln, stillen, Fläschchen, tragen… all das dar
 fst du ausprobieren. Bitte bring deine Puppe und einen Schal, sowie deine M
 ama oder Papa in den Kurs mit.</p><p><span class="fett">Termin:</span><br /
 > Mittwoch, 26.08.24, 15<span class="kleinhoch">30</span> - 17<span class="
 kleinhoch">00</span> Uhr<br /><br /> <span class="fett">Kosten: </span> € 2
 3,-<br /> Anmeldung erforderlich! (Höchste Teilnehmeranzahl: 10)</p><p>&nbs
 p;</p>
CONTACT:info@kind-und-kegel.at, 01 503 71 88
X-EXTRAINFO:[preis='2300'][anmeldung='true']
DTSTAMP:20260423T220101
DTSTART:20240826T133000
DTEND:20240826T150000
SEQUENCE:0
TRANSP:OPAQUE
END:VEVENT
END:VCALENDAR