BEGIN:VCALENDAR
VERSION:2.0
PRODID:-//jEvents 2.0 for Joomla//EN
CALSCALE:GREGORIAN
METHOD:PUBLISH
BEGIN:VEVENT
UID:9960fbcb704328eeb65ab2fdf93b387c
CATEGORIES:2. Bezirk
CREATED:20240529T162630
SUMMARY:Freie Bewegungsentwicklung - Vortrag
LOCATION:Eltern-Kind-Zentrum Kind&amp;Kegel\, Praterstraße 14/8\, 1020 Wien
DESCRIPTION:Freie Bewegungsentwicklung in den ersten drei Lebensjahren [Vortrag] \nDie 
 motorische Entwicklung von Babys und Kleinkindern kann man im Alltag unters
 tützen, aber auch unwissentlich negativ beeinflussen. Stets die gleiche Lie
 geposition, passives Hinsetzen und Gehen an den Händen sind nur ein Auszug 
 aus vielen Handlungen die für die physiologische Entwicklung nicht ideal si
 nd. Ganz nach dem Motto "Hilf mir es selbst zu tun" ist in der Bewegungsent
 wicklung weniger oft mehr.\n \nIst es normal, wenn mein Baby nicht krabbelt
 ? Ab wann soll mein Baby im Sportsitz im Kinderwagen sitzen? Ab wann brauch
 t mein Kind Schuhe?\n \nFragen wie diese sollen geklärt und Alternativen au
 fgezeigt werden. Die Meilensteine der motorischen Entwicklung werden darges
 tellt.\nLeitung: Claudia Schwarz, BSc\n Termin: Donnerstag 10:00 - 11:30 Uh
 r\n Kosten: € 28,- , Anmeldung erforderlich!\n \n
X-ALT-DESC;FMTTYPE=text/html:<h2 class="unterstrich">Freie Bewegungsentwicklung in den ersten drei Leben
 sjahren [Vortrag]</h2><p>&nbsp;</p><p>Die motorische Entwicklung von Babys 
 und Kleinkindern kann man im Alltag unterstützen, aber auch unwissentlich n
 egativ beeinflussen. Stets die gleiche Liegeposition, passives Hinsetzen un
 d Gehen an den Händen sind nur ein Auszug aus vielen Handlungen die für die
  physiologische Entwicklung nicht ideal sind. Ganz nach dem Motto "Hilf mir
  es selbst zu tun" ist in der Bewegungsentwicklung weniger oft mehr.</p><p>
 &nbsp;</p><p>Ist es normal, wenn mein Baby nicht krabbelt? Ab wann soll mei
 n Baby im Sportsitz im Kinderwagen sitzen? Ab wann braucht mein Kind Schuhe
 ?</p><p>&nbsp;</p><p>Fragen wie diese sollen geklärt und Alternativen aufge
 zeigt werden. Die Meilensteine der motorischen Entwicklung werden dargestel
 lt.</p><p><span class="fett">Leitung:</span> Claudia Schwarz, BSc<br /> <sp
 an class="fett">Termin:</span> Donnerstag 10:<span class="kleinhoch">00</sp
 an> - 11:30 Uhr<br /> <span class="fett">Kosten</span>: € 28,- , Anmeldung 
 erforderlich!</p><p>&nbsp;</p>
CONTACT:info@kind-und-kegel.at, 01 503 71 88
X-EXTRAINFO:[preis='2800'][anmeldung='true']
DTSTAMP:20260423T232055
DTSTART:20240808T080000
DTEND:20240808T093000
SEQUENCE:0
TRANSP:OPAQUE
END:VEVENT
END:VCALENDAR