BEGIN:VCALENDAR
VERSION:2.0
PRODID:-//jEvents 2.0 for Joomla//EN
CALSCALE:GREGORIAN
METHOD:PUBLISH
BEGIN:VEVENT
UID:f21b5616de4eb05d97d3c507ffbf0ef2
CATEGORIES:2. Bezirk
CREATED:20240529T162850
SUMMARY:Wie Babys schlafen - Vortrag
LOCATION:Eltern-Kind-Zentrum Kind&amp;Kegel\, Praterstraße 14/8\, 1020 Wien
DESCRIPTION:Entwicklung, Mythen &amp; Träume: Wie Babys schlafen [Vortrag] \nVortrag zu
 m Thema Gehirnentwicklung im Baby- und Kleinkindalter und Konsequenzen für 
 den Baby- und Kleinkindschlaf. Warum schlafen Babys wie sie schlafen? Warum
  wachen Babys auf? Was kann man tun um sein Baby gut in den und im Schlaf z
 u begleiten.\nLeitung: Eva Dittinger, PhD\n Neurowissenschafterin, Mutter u
 nd zertifizierte Baby- und Kinderschlafbegleiterin \n \n Donnerstag, 29.08.
 24, 10:00 - 11:30 Uhr\n\n Kosten: € 28,- pro Termin, Anmeldung erforderlich
 !\n \n
X-ALT-DESC;FMTTYPE=text/html:<h2 class="unterstrich">Entwicklung, Mythen &amp; Träume: Wie Babys schlafe
 n [Vortrag]</h2><p>&nbsp;</p><p>Vortrag zum Thema Gehirnentwicklung im Baby
 - und Kleinkindalter und Konsequenzen für den Baby- und Kleinkindschlaf. Wa
 rum schlafen Babys wie sie schlafen? Warum wachen Babys auf? Was kann man t
 un um sein Baby gut in den und im Schlaf zu begleiten.</p><p><span class="f
 ett">Leitung:</span> Eva Dittinger, PhD<br /> Neurowissenschafterin, Mutter
  und zertifizierte Baby- und Kinderschlafbegleiterin <br /> <br /> Donnerst
 ag, 29.08.24, 10:<span class="kleinhoch">00</span> - 11:<span class="kleinh
 och">30</span> Uhr<br /><br /> <span class="fett">Kosten</span>: € 28,- pro
  Termin, Anmeldung erforderlich!</p><p>&nbsp;</p>
CONTACT:info@kind-und-kegel.at, 01 503 71 88
X-EXTRAINFO:[preis='2800'][anmeldung='true']
DTSTAMP:20260423T221906
DTSTART:20240829T080000
DTEND:20240829T093000
SEQUENCE:0
TRANSP:OPAQUE
END:VEVENT
END:VCALENDAR